BEGIN:VCALENDAR
VERSION:2.0
PRODID:-//InvisionCommunity Events 4.7.14//EN
METHOD:PUBLISH
CALSCALE:GREGORIAN
REFRESH-INTERVAL:PT15M
X-PUBLISHED-TTL:PT15M
X-WR-CALNAME:The Elder Scrolls Online
NAME:The Elder Scrolls Online
BEGIN:VTIMEZONE
TZID:Europe/London
TZURL:http://tzurl.org/zoneinfo/Europe/London
X-LIC-LOCATION:Europe/London
BEGIN:DAYLIGHT
TZOFFSETFROM:+0000
TZOFFSETTO:+0100
TZNAME:BST
DTSTART:20210328T020000Z
RRULE:FREQ=YEARLY;BYMONTH=3;BYDAY=-1SU
END:DAYLIGHT
BEGIN:STANDARD
TZOFFSETFROM:+0100
TZOFFSETTO:+0000
TZNAME:GMT
DTSTART:20211031T020000Z
RRULE:FREQ=YEARLY;BYMONTH=10;BYDAY=-1SU
END:STANDARD
END:VTIMEZONE
BEGIN:VEVENT
SUMMARY:[TESO] Эгида Кин - учебное вет.исп
	ытание
DTSTAMP:20210116T142500Z
SEQUENCE:0
UID:8803-1-afb15bc42254ad5fb0481ce5e9c8144d@forum.bandits-clan.ru
ORGANIZER;CN="dreemspot":web@bandits-clan.ru
DESCRIPTION:\n	ВНИМАНИЕ !Событи
	е создано именно на
	 15:00 мск в субботу\, форум заг
	лючил и поставил событие на 22
	:00\n\n\n\n	В 15.00 по Московскому 
	времени.\n\n\n\n	Приглашаю 12
	 человек – 2 танка\,
	 2 хила\, 8 дд (Об
	язательна отметка о
	 прохождении нормал вер
	сии триала (мод DBGN)\, у дд обяза
	телен ДПС от 26к+) в звании Raid
	er\, от 500ОГ\, для прохождения триала:\n
	\n\n\n	 \n\n\n\n	Эгида Кин / Kyne's Aegis [vKA] 
	Необходимо DLC - Греймур.\n\n\n\n	 \n\n\n
	\n	При себе иметь: TeamSpeak
	 (хотя бы возможность слуш
	ать)\, Табард\, ремкомпл
	екты\, еду!\n\n\n\n	Д
	ля наибольш
	его удобства
	 в освоении контент
	а\, советую заранее установить так
	ие моды как Bandits UserInterface / Code's Combat Alerts /
	 RaidNotifier. Данные мод
	ы показывают
	 атаки боссов и что
	 нужно делать в слу
	чае использования 
	их боссами.\n\n\n\n	В комм
	ентариях указывайте с
	вою роль и игровой id.\
	n\n\n\n	На событие приходи
	те заранее\, сборы на
	чинаются за 10-15 ми
	н. до назначенн
	ого времени\, в пр
	отивном случае\, ваше место
	 уйдет другому желающему.
	\n\n\n\n	 \n\n\n\n	Решение о сост
	аве группы остается за рейд лидером.\n
DTSTART:20210123T120000Z
ATTENDEE;CN="dreemspot";CUTYPE=INDIVIDUAL;PARTSTAT=ACCEPTED:
	web@bandits-clan.ru
ATTENDEE;CN="F4N7";CUTYPE=INDIVIDUAL;PARTSTAT=ACCEPTED:web@b
	andits-clan.ru
ATTENDEE;CN="armares";CUTYPE=INDIVIDUAL;PARTSTAT=ACCEPTED:we
	b@bandits-clan.ru
ATTENDEE;CN="GUYKA";CUTYPE=INDIVIDUAL;PARTSTAT=ACCEPTED:web@
	bandits-clan.ru
ATTENDEE;CN="VoronNika";CUTYPE=INDIVIDUAL;PARTSTAT=ACCEPTED:
	web@bandits-clan.ru
ATTENDEE;CN="Thilse";CUTYPE=INDIVIDUAL;PARTSTAT=ACCEPTED:web
	@bandits-clan.ru
ATTENDEE;CN="vidarr";CUTYPE=INDIVIDUAL;PARTSTAT=ACCEPTED:web
	@bandits-clan.ru
ATTENDEE;CN="Miso";CUTYPE=INDIVIDUAL;PARTSTAT=ACCEPTED:web@b
	andits-clan.ru
ATTENDEE;CN="СергейПА";CUTYPE=INDIVIDUAL;PARTSTAT=AC
	CEPTED:web@bandits-clan.ru
ATTENDEE;CN="wentef";CUTYPE=INDIVIDUAL;PARTSTAT=ACCEPTED:web
	@bandits-clan.ru
ATTENDEE;CN="Дэйф";CUTYPE=INDIVIDUAL;PARTSTAT=ACCEPTED:w
	eb@bandits-clan.ru
ATTENDEE;CN="Solar";CUTYPE=INDIVIDUAL;PARTSTAT=ACCEPTED:web@
	bandits-clan.ru
ATTENDEE;CN="zumma";CUTYPE=INDIVIDUAL;PARTSTAT=ACCEPTED:web@
	bandits-clan.ru
ATTENDEE;CN="Hrom";CUTYPE=INDIVIDUAL;PARTSTAT=ACCEPTED:web@b
	andits-clan.ru
END:VEVENT
END:VCALENDAR
