BEGIN:VCALENDAR
VERSION:2.0
PRODID:-//InvisionCommunity Events 4.7.14//EN
METHOD:PUBLISH
CALSCALE:GREGORIAN
REFRESH-INTERVAL:PT15M
X-PUBLISHED-TTL:PT15M
X-WR-CALNAME:The Elder Scrolls Online
NAME:The Elder Scrolls Online
BEGIN:VTIMEZONE
TZID:Europe/London
TZURL:http://tzurl.org/zoneinfo/Europe/London
X-LIC-LOCATION:Europe/London
BEGIN:DAYLIGHT
TZOFFSETFROM:+0000
TZOFFSETTO:+0100
TZNAME:BST
DTSTART:20210328T020000Z
RRULE:FREQ=YEARLY;BYMONTH=3;BYDAY=-1SU
END:DAYLIGHT
BEGIN:STANDARD
TZOFFSETFROM:+0100
TZOFFSETTO:+0000
TZNAME:GMT
DTSTART:20211031T020000Z
RRULE:FREQ=YEARLY;BYMONTH=10;BYDAY=-1SU
END:STANDARD
END:VTIMEZONE
BEGIN:VEVENT
SUMMARY:[TESO] Фармовый vSS ( вет Солнечный ш
	пиль)
DTSTAMP:20210115T025218Z
SEQUENCE:2
UID:8794-1-afb15bc42254ad5fb0481ce5e9c8144d@forum.bandits-clan.ru
ORGANIZER;CN="Sinbann":web@bandits-clan.ru
DESCRIPTION:\n	\n\n\n	 \n\n\n\n	В 19:00 по 
	МСК приглашаю 
	всех желающих о
	т 500 ОГ пройти в
	етеранскую версию исп
	ытания \"Солнечный шпиль\" для 
	сбора сетов:\n\n\n\n	 \n\n\n\n	- Йол
	накрин\;\n- Ложный бог\;\n- Локкес
	тиз.\n\n\n\n	 \n\n\n\n	Для у
	спешного прохожден
	ия нам потребуются: 
	2 танка (аттестация от нор
	мал) \, 1 хил (аттестация от 
	нормал) \, 8 ДД (аттес
	тация от 35к) .
	 Для запис
	и необходимо 
	нажать кнопку у
	частия сверху 
	и написать свой
	 игровой ID и ро
	ль ниже.\nОбя
	зательна отм
	етка о прохож
	дении нормал версии тр
	иала\, приоритет в наборе на в
	ет отметку.\n\n\n\n	 \n\n\n\n	Вним
	ание\, требуется глава Эльс
	вейр.\n\n\n\n	 \n\n\n\n	Дрес
	скод парадный (таба
	рд) со всем необходимым (ремко
	мплекты\, камни душ).\n\n\n\n	 \n\n
	\n\n	Обязательно присутс
	твие в Teamspeak канал
	 Фармовое испыт
	ание.\nСбор в гильдхолле 
	(Большое топальское убежи
	ще\, тп на @Kibert) за 15 минут до начал
	а триала.\n\n\n\n	 \n\n\n\n	Обязательно н
	аличие аддонов:\nCode Combat Alert\nRaid Notifier\nHow to Sun
	spire\n\n\n\n	 \n\n\n\n	Не учебн
	ое испытание
	\, отметки ст
	авиться не бу
	дут\nОкончательное решение о составе 
	рейда остается за РЛом\n
DTSTART:20210131T160000Z
ATTENDEE;CN="Sinbann";CUTYPE=INDIVIDUAL;PARTSTAT=ACCEPTED:we
	b@bandits-clan.ru
ATTENDEE;CN="Ghost_77";CUTYPE=INDIVIDUAL;PARTSTAT=ACCEPTED:w
	eb@bandits-clan.ru
ATTENDEE;CN="VoronNika";CUTYPE=INDIVIDUAL;PARTSTAT=ACCEPTED:
	web@bandits-clan.ru
ATTENDEE;CN="Thilse";CUTYPE=INDIVIDUAL;PARTSTAT=ACCEPTED:web
	@bandits-clan.ru
ATTENDEE;CN="Дэйф";CUTYPE=INDIVIDUAL;PARTSTAT=ACCEPTED:w
	eb@bandits-clan.ru
ATTENDEE;CN="Dushman";CUTYPE=INDIVIDUAL;PARTSTAT=ACCEPTED:we
	b@bandits-clan.ru
ATTENDEE;CN="HardMel";CUTYPE=INDIVIDUAL;PARTSTAT=ACCEPTED:we
	b@bandits-clan.ru
ATTENDEE;CN="Weaver";CUTYPE=INDIVIDUAL;PARTSTAT=ACCEPTED:web
	@bandits-clan.ru
ATTENDEE;CN="FairStrike";CUTYPE=INDIVIDUAL;PARTSTAT=ACCEPTED
	:web@bandits-clan.ru
ATTENDEE;CN="Zahaz";CUTYPE=INDIVIDUAL;PARTSTAT=ACCEPTED:web@
	bandits-clan.ru
END:VEVENT
END:VCALENDAR
