BEGIN:VCALENDAR
VERSION:2.0
PRODID:-//InvisionCommunity Events 4.7.14//EN
METHOD:PUBLISH
CALSCALE:GREGORIAN
REFRESH-INTERVAL:PT15M
X-PUBLISHED-TTL:PT15M
X-WR-CALNAME:The Elder Scrolls Online
NAME:The Elder Scrolls Online
BEGIN:VTIMEZONE
TZID:Europe/London
TZURL:http://tzurl.org/zoneinfo/Europe/London
X-LIC-LOCATION:Europe/London
BEGIN:DAYLIGHT
TZOFFSETFROM:+0000
TZOFFSETTO:+0100
TZNAME:BST
DTSTART:20210328T020000Z
RRULE:FREQ=YEARLY;BYMONTH=3;BYDAY=-1SU
END:DAYLIGHT
BEGIN:STANDARD
TZOFFSETFROM:+0100
TZOFFSETTO:+0000
TZNAME:GMT
DTSTART:20211031T020000Z
RRULE:FREQ=YEARLY;BYMONTH=10;BYDAY=-1SU
END:STANDARD
END:VTIMEZONE
BEGIN:VEVENT
SUMMARY:[TESO] Бойцовский клуб - Открытый ту
	рнир
DTSTAMP:20210114T100452Z
SEQUENCE:0
UID:8793-1-afb15bc42254ad5fb0481ce5e9c8144d@forum.bandits-clan.ru
ORGANIZER;CN="Winchester":web@bandits-clan.ru
DESCRIPTION:Бойцовск
	ий клуб: Откр
	ытый турнир! Д
	оступ для всех у
	частников клана
	\, любой уровень\, л
	юбой класс - каж
	дое место будет
	 призовым\, так
	 что не стесняйся и при
	ходи за опытом и золотом 
	  Воскресенье 31/01/21 в 16:00 МСК. Пр
	изовой фонд: 500 000 золо
	та. TeamSpeak: Бойцо
	вский клуб 
	Табарды обя
	зательны. Кс
	тати\, с помощью
	 Бойцовского Клуба ты сможешь повыси
	ть звание в гильдии  
DTSTART:20210131T130000Z
END:VEVENT
END:VCALENDAR
