BEGIN:VCALENDAR
VERSION:2.0
PRODID:-//InvisionCommunity Events 4.7.14//EN
METHOD:PUBLISH
CALSCALE:GREGORIAN
REFRESH-INTERVAL:PT15M
X-PUBLISHED-TTL:PT15M
X-WR-CALNAME:The Elder Scrolls Online
NAME:The Elder Scrolls Online
BEGIN:VTIMEZONE
TZID:Europe/London
TZURL:http://tzurl.org/zoneinfo/Europe/London
X-LIC-LOCATION:Europe/London
BEGIN:DAYLIGHT
TZOFFSETFROM:+0000
TZOFFSETTO:+0100
TZNAME:BST
DTSTART:20210328T020000Z
RRULE:FREQ=YEARLY;BYMONTH=3;BYDAY=-1SU
END:DAYLIGHT
BEGIN:STANDARD
TZOFFSETFROM:+0100
TZOFFSETTO:+0000
TZNAME:GMT
DTSTART:20211031T020000Z
RRULE:FREQ=YEARLY;BYMONTH=10;BYDAY=-1SU
END:STANDARD
END:VTIMEZONE
BEGIN:VEVENT
SUMMARY:[TESO] Боссы Скайр
	има\, Предела\, Мрачных Трясин и Южног
	о Эльсвейра
DTSTAMP:20210113T021306Z
SEQUENCE:2
UID:8789-1-afb15bc42254ad5fb0481ce5e9c8144d@forum.bandits-clan.ru
ORGANIZER;CN="Ил Арион":web@bandits-clan.ru
DESCRIPTION:\n	с 20-00 по МСК\n\n\n\n	 \n\n\
	n\n	Приглашаю в
	сех желающи
	х любого уро
	вня пробежать
	ся по боссам\, 
	бурям и драко
	нам локаций За
	падный Скайри
	м\, Черный Предел\, Пред
	ел\, Мрачные Трясины и Юж
	ный Эльсвейр\n\n\n\n	 \n\n\
	n\n	Закроем дост
	ижения\, пофарми
	м зацепки\, сдел
	аем ежедневные квесты на б
	оссов и бури\, получим лут и о
	пыт.\n\n\n\n	 \n\n\n\n	Требов
	ания: глава Греймур\, гил
	ьдейская накидка\, присутстви
	е в ТС.\n\n\n\n	 \n\n\n\n	Сбор в ТС в ком
	нате Мировые Боссы\n\n\n\n	 
	\n\n\n\n	Приоритет для записавшихся игроков
	 
DTSTART:20210124T170000Z
ATTENDEE;CN="Ил Арион";CUTYPE=INDIVIDUAL;PARTSTAT=ACC
	EPTED:web@bandits-clan.ru
ATTENDEE;CN="GREZNIK";CUTYPE=INDIVIDUAL;PARTSTAT=ACCEPTED:we
	b@bandits-clan.ru
ATTENDEE;CN="OtisDriftwood";CUTYPE=INDIVIDUAL;PARTSTAT=ACCEP
	TED:web@bandits-clan.ru
ATTENDEE;CN="Fadein";CUTYPE=INDIVIDUAL;PARTSTAT=ACCEPTED:web
	@bandits-clan.ru
END:VEVENT
END:VCALENDAR
