BEGIN:VCALENDAR
VERSION:2.0
PRODID:-//InvisionCommunity Events 4.7.14//EN
METHOD:PUBLISH
CALSCALE:GREGORIAN
REFRESH-INTERVAL:PT15M
X-PUBLISHED-TTL:PT15M
X-WR-CALNAME:The Elder Scrolls Online
NAME:The Elder Scrolls Online
BEGIN:VTIMEZONE
TZID:Europe/London
TZURL:http://tzurl.org/zoneinfo/Europe/London
X-LIC-LOCATION:Europe/London
BEGIN:DAYLIGHT
TZOFFSETFROM:+0000
TZOFFSETTO:+0100
TZNAME:BST
DTSTART:20210328T020000Z
RRULE:FREQ=YEARLY;BYMONTH=3;BYDAY=-1SU
END:DAYLIGHT
BEGIN:STANDARD
TZOFFSETFROM:+0100
TZOFFSETTO:+0000
TZNAME:GMT
DTSTART:20211031T020000Z
RRULE:FREQ=YEARLY;BYMONTH=10;BYDAY=-1SU
END:STANDARD
END:VTIMEZONE
BEGIN:VEVENT
SUMMARY:[TESO] Фармовое испытание nCR+0 (норма
	л Клаудрест)
DTSTAMP:20210113T003834Z
SEQUENCE:2
UID:8786-1-afb15bc42254ad5fb0481ce5e9c8144d@forum.bandits-clan.ru
ORGANIZER;CN="Sinbann":web@bandits-clan.ru
DESCRIPTION:В 19:00 по МСК приг
	лашаю всех желающ
	их от 160 ОГ пройти
	 нормал версию испытан
	ия \"Клаудрест\" для сбора 
	сетов: \n- Сирория\;\n- Ре
	леквен\;\n- Гален
	ве\;\n- Олорима. Для
	 успешного прохождени
	я нам потребуются: 2 т
	анка\, 1 хил\, 8 ДД. Д
	ля участия необ
	ходимо нажать кноп
	ку \"Пойду\" справа п
	о курсу и написат
	ь свой игровой ID
	 и роль ниже.\nНо
	вичкам в поко
	рении триалов 
	тоже буду рада
	\, всё расскаж
	у и покажу. 
	Внимание\, тр
	ебуется глав
	а Саммерсет.
	 Дресскод пара
	дный (табард) с
	о всем необход
	имым (ремкомплекты\, 
	камни душ). Обязател
	ьно присутствие в Team
	speak канал Фармо
	вое испытание.\nСбо
	р в гильдхолле (Большое т
	опальское убежище\, тп 
	на @Kibert) за 15 минут д
	о начала триала. Обязательно наличи
	е аддонов:\nCode Combat Alert\nRaid Notifier\nBandit User In
	terface Не учебное
	 испытание\, 
	отметки ст
	авиться не б
	удут\nОкончательное 
	решение о составе группы остаётся за рей
	д-лидером
DTSTART:20210124T160000Z
ATTENDEE;CN="Ghost_77";CUTYPE=INDIVIDUAL;PARTSTAT=ACCEPTED:w
	eb@bandits-clan.ru
ATTENDEE;CN="Sinbann";CUTYPE=INDIVIDUAL;PARTSTAT=ACCEPTED:we
	b@bandits-clan.ru
ATTENDEE;CN="Morra";CUTYPE=INDIVIDUAL;PARTSTAT=ACCEPTED:web@
	bandits-clan.ru
ATTENDEE;CN="Darkobarko";CUTYPE=INDIVIDUAL;PARTSTAT=ACCEPTED
	:web@bandits-clan.ru
ATTENDEE;CN="D1Z1";CUTYPE=INDIVIDUAL;PARTSTAT=ACCEPTED:web@b
	andits-clan.ru
ATTENDEE;CN="StephenDedalus";CUTYPE=INDIVIDUAL;PARTSTAT=ACCE
	PTED:web@bandits-clan.ru
ATTENDEE;CN="Константин90";CUTYPE=INDIVIDUAL;PARTS
	TAT=ACCEPTED:web@bandits-clan.ru
ATTENDEE;CN="Madlopt";CUTYPE=INDIVIDUAL;PARTSTAT=ACCEPTED:we
	b@bandits-clan.ru
ATTENDEE;CN="warrean";CUTYPE=INDIVIDUAL;PARTSTAT=ACCEPTED:we
	b@bandits-clan.ru
ATTENDEE;CN="Pupezky";CUTYPE=INDIVIDUAL;PARTSTAT=ACCEPTED:we
	b@bandits-clan.ru
ATTENDEE;CN="mylordandru";CUTYPE=INDIVIDUAL;PARTSTAT=ACCEPTE
	D:web@bandits-clan.ru
ATTENDEE;CN="EHoTMorty";CUTYPE=INDIVIDUAL;PARTSTAT=ACCEPTED:
	web@bandits-clan.ru
ATTENDEE;CN="NegaTTiVV";CUTYPE=INDIVIDUAL;PARTSTAT=ACCEPTED:
	web@bandits-clan.ru
ATTENDEE;CN="VladRevenant";CUTYPE=INDIVIDUAL;PARTSTAT=ACCEPT
	ED:web@bandits-clan.ru
END:VEVENT
END:VCALENDAR
