BEGIN:VCALENDAR
VERSION:2.0
PRODID:-//InvisionCommunity Events 4.7.14//EN
METHOD:PUBLISH
CALSCALE:GREGORIAN
REFRESH-INTERVAL:PT15M
X-PUBLISHED-TTL:PT15M
X-WR-CALNAME:The Elder Scrolls Online
NAME:The Elder Scrolls Online
BEGIN:VTIMEZONE
TZID:Europe/London
TZURL:http://tzurl.org/zoneinfo/Europe/London
X-LIC-LOCATION:Europe/London
BEGIN:DAYLIGHT
TZOFFSETFROM:+0000
TZOFFSETTO:+0100
TZNAME:BST
DTSTART:20210328T020000Z
RRULE:FREQ=YEARLY;BYMONTH=3;BYDAY=-1SU
END:DAYLIGHT
BEGIN:STANDARD
TZOFFSETFROM:+0100
TZOFFSETTO:+0000
TZNAME:GMT
DTSTART:20211031T020000Z
RRULE:FREQ=YEARLY;BYMONTH=10;BYDAY=-1SU
END:STANDARD
END:VTIMEZONE
BEGIN:VEVENT
SUMMARY:[TESO] Roleplay. Волшебный корень.
DTSTAMP:20210111T161224Z
SEQUENCE:0
UID:8783-1-afb15bc42254ad5fb0481ce5e9c8144d@forum.bandits-clan.ru
ORGANIZER;CN="Culto":web@bandits-clan.ru
DESCRIPTION:\n	НРИ (TRPG) - Настольные ролевые и
	гры (Tabletop roleplay game)\, берут своё н
	ачало с легендарного Dungeons 
	and Dragons\, где Маст
	ер выстраива
	ет сюжет и ре
	агирует на д
	ействия игро
	ков в выдума
	нном мире. Иг
	ра проходит 
	в словестной ф
	орме с бросанием кубиков 
	в спорных или сложных ситуациях.
	\n\n\n\n	 \n\n\n\n	В 14:00 по МС
	К продолжение приключения. На
	чало можно почитать тут http://forum.bandits-clan.ru/i
	ndex.php?showtopic=74154\n\n\n\n	 \n\n\n\n	Меропр
	иятие рассчитано на 4-5 челов
	ек и по времени около 3 часов.\n\n
	\n\n	 \n\n\n\n	Внимание!!! 
	Тех\, кто хоче
	т присоединитьс
	я к уже идущей иг
	ре\, большая просьба м
	инимум за 2 дня связаться со мной в 
	Дискорде MAR.DUK (Culto)#5565\n\n	
	Это нужно для 
	того\, что б
	ы синхрон
	изировать
	 ваше появление
	 в сюжете и правильно сген
	ерировать чарлист персонажа.
	\n\n\n\n	 \n\n\n\n	Сбор в тимспике в канале \"М
	ир приключений\".\n
DTSTART:20210123T110000Z
END:VEVENT
END:VCALENDAR
