BEGIN:VCALENDAR
VERSION:2.0
PRODID:-//InvisionCommunity Events 4.7.14//EN
METHOD:PUBLISH
CALSCALE:GREGORIAN
REFRESH-INTERVAL:PT15M
X-PUBLISHED-TTL:PT15M
X-WR-CALNAME:The Elder Scrolls Online
NAME:The Elder Scrolls Online
BEGIN:VTIMEZONE
TZID:Europe/London
TZURL:http://tzurl.org/zoneinfo/Europe/London
X-LIC-LOCATION:Europe/London
BEGIN:DAYLIGHT
TZOFFSETFROM:+0000
TZOFFSETTO:+0100
TZNAME:BST
DTSTART:20210328T020000Z
RRULE:FREQ=YEARLY;BYMONTH=3;BYDAY=-1SU
END:DAYLIGHT
BEGIN:STANDARD
TZOFFSETFROM:+0100
TZOFFSETTO:+0000
TZNAME:GMT
DTSTART:20211031T020000Z
RRULE:FREQ=YEARLY;BYMONTH=10;BYDAY=-1SU
END:STANDARD
END:VTIMEZONE
BEGIN:VEVENT
SUMMARY:[TESO] Roleplay. Волшебный корень.
DTSTAMP:20210111T160711Z
SEQUENCE:2
UID:8782-1-afb15bc42254ad5fb0481ce5e9c8144d@forum.bandits-clan.ru
ORGANIZER;CN="Culto":web@bandits-clan.ru
DESCRIPTION:НРИ (TRPG) - Настольные ролевые игры
	 (Tabletop roleplay game)\, берут своё начало 
	с легендарного Dungeons and Dr
	agons\, где Мастер
	 выстраивает
	 сюжет и реаги
	рует на дейс
	твия игроков
	 в выдуманном
	 мире. Игра пр
	оходит в сл
	овестной форме 
	с бросанием кубик
	ов в спорных или
	 сложных ситуация
	х. В 14:00 по МСК прод
	олжение приключения. Начало можно 
	почитать тут http://forum.bandits-clan.ru/index.php?showt
	opic=74154  Мероприятие р
	ассчитано на 4-5 чело
	век и по времени 
	около 3 часов. Вн
	имание!!! Тех\, к
	то хочет присое
	диниться к уже 
	идущей игре\, б
	ольшая просьба минимум за
	 2 дня связаться со мной в Дискорде \
	"MAR.DUK (Culto)#5565\"\nЭто нужно
	 для того\, чт
	о бы синхр
	онизирова
	ть ваше по
	явление в 
	сюжете и п
	равильно сге
	нерировать ча
	рлист персонажа. 
	Сбор в тимспике в
	 канале \"Мир при
	ключений\". З.Ы
	. Если вам неу
	добно играть 
	по субботам ил
	и вы абсолютный н
	овичок\, плюсуйте
	 в данную тему и 
	выходите на связ
	ь\, я могу выделить ещё од
	ин день в неделю и собрать ещё одну групп
	у.
DTSTART:20210116T110000Z
ATTENDEE;CN="Bagira-Olga";CUTYPE=INDIVIDUAL;PARTSTAT=ACCEPTE
	D:web@bandits-clan.ru
ATTENDEE;CN="F4N7";CUTYPE=INDIVIDUAL;PARTSTAT=ACCEPTED:web@b
	andits-clan.ru
ATTENDEE;CN="Sotona88";CUTYPE=INDIVIDUAL;PARTSTAT=ACCEPTED:w
	eb@bandits-clan.ru
ATTENDEE;CN="OtisDriftwood";CUTYPE=INDIVIDUAL;PARTSTAT=ACCEP
	TED:web@bandits-clan.ru
ATTENDEE;CN="FearFur";CUTYPE=INDIVIDUAL;PARTSTAT=ACCEPTED:we
	b@bandits-clan.ru
END:VEVENT
END:VCALENDAR
