BEGIN:VCALENDAR
VERSION:2.0
PRODID:-//InvisionCommunity Events 4.7.14//EN
METHOD:PUBLISH
CALSCALE:GREGORIAN
REFRESH-INTERVAL:PT15M
X-PUBLISHED-TTL:PT15M
X-WR-CALNAME:The Elder Scrolls Online
NAME:The Elder Scrolls Online
BEGIN:VTIMEZONE
TZID:Europe/London
TZURL:http://tzurl.org/zoneinfo/Europe/London
X-LIC-LOCATION:Europe/London
BEGIN:DAYLIGHT
TZOFFSETFROM:+0000
TZOFFSETTO:+0100
TZNAME:BST
DTSTART:20210328T020000Z
RRULE:FREQ=YEARLY;BYMONTH=3;BYDAY=-1SU
END:DAYLIGHT
BEGIN:STANDARD
TZOFFSETFROM:+0100
TZOFFSETTO:+0000
TZNAME:GMT
DTSTART:20211031T020000Z
RRULE:FREQ=YEARLY;BYMONTH=10;BYDAY=-1SU
END:STANDARD
END:VTIMEZONE
BEGIN:VEVENT
SUMMARY:[TESO] Фармовое испытание нормал Э
	гида Кин
DTSTAMP:20210111T151858Z
SEQUENCE:0
UID:8781-1-afb15bc42254ad5fb0481ce5e9c8144d@forum.bandits-clan.ru
ORGANIZER;CN="Lisbrainy":web@bandits-clan.ru
DESCRIPTION:Собираем
	ся несколько
	 раз пройти но
	рмал Эгиду Кин.
	 Я претендую 
	на сет оппорт
	униста\, буде
	м делиться се
	тами\, также
	 приходите 
	за коллекция
	ми сетов. Тре
	бования - про
	йденный триал норма
	л Эгида Кин (отметка в гильдии желат
	ельна)\, от 300 чп.
DTSTART:20210117T140000Z
ATTENDEE;CN="Lisbrainy";CUTYPE=INDIVIDUAL;PARTSTAT=ACCEPTED:
	web@bandits-clan.ru
ATTENDEE;CN="Sotona88";CUTYPE=INDIVIDUAL;PARTSTAT=ACCEPTED:w
	eb@bandits-clan.ru
ATTENDEE;CN="Ghost_77";CUTYPE=INDIVIDUAL;PARTSTAT=ACCEPTED:w
	eb@bandits-clan.ru
ATTENDEE;CN="VoronNika";CUTYPE=INDIVIDUAL;PARTSTAT=ACCEPTED:
	web@bandits-clan.ru
ATTENDEE;CN="F4N7";CUTYPE=INDIVIDUAL;PARTSTAT=ACCEPTED:web@b
	andits-clan.ru
ATTENDEE;CN="Darkobarko";CUTYPE=INDIVIDUAL;PARTSTAT=ACCEPTED
	:web@bandits-clan.ru
ATTENDEE;CN="Helenar";CUTYPE=INDIVIDUAL;PARTSTAT=ACCEPTED:we
	b@bandits-clan.ru
ATTENDEE;CN="Dushman";CUTYPE=INDIVIDUAL;PARTSTAT=ACCEPTED:we
	b@bandits-clan.ru
ATTENDEE;CN="Den13ka";CUTYPE=INDIVIDUAL;PARTSTAT=ACCEPTED:we
	b@bandits-clan.ru
ATTENDEE;CN="Hrom";CUTYPE=INDIVIDUAL;PARTSTAT=ACCEPTED:web@b
	andits-clan.ru
ATTENDEE;CN="rlp zadrotikus";CUTYPE=INDIVIDUAL;PARTSTAT=ACCE
	PTED:web@bandits-clan.ru
END:VEVENT
END:VCALENDAR
