BEGIN:VCALENDAR
VERSION:2.0
PRODID:-//InvisionCommunity Events 4.7.14//EN
METHOD:PUBLISH
CALSCALE:GREGORIAN
REFRESH-INTERVAL:PT15M
X-PUBLISHED-TTL:PT15M
X-WR-CALNAME:The Elder Scrolls Online
NAME:The Elder Scrolls Online
BEGIN:VTIMEZONE
TZID:Europe/London
TZURL:http://tzurl.org/zoneinfo/Europe/London
X-LIC-LOCATION:Europe/London
BEGIN:DAYLIGHT
TZOFFSETFROM:+0000
TZOFFSETTO:+0100
TZNAME:BST
DTSTART:20210328T020000Z
RRULE:FREQ=YEARLY;BYMONTH=3;BYDAY=-1SU
END:DAYLIGHT
BEGIN:STANDARD
TZOFFSETFROM:+0100
TZOFFSETTO:+0000
TZNAME:GMT
DTSTART:20211031T020000Z
RRULE:FREQ=YEARLY;BYMONTH=10;BYDAY=-1SU
END:STANDARD
END:VTIMEZONE
BEGIN:VEVENT
SUMMARY:[TESO] Фармовое испытание nMoL (П
	асть Лорхаджа)
DTSTAMP:20210111T131249Z
SEQUENCE:2
UID:8780-1-afb15bc42254ad5fb0481ce5e9c8144d@forum.bandits-clan.ru
ORGANIZER;CN="Helenar":web@bandits-clan.ru
DESCRIPTION:В 12:00 по МСК приг
	лашаю всех желающих 
	от 160 ОГ пройти нормал
	 версию триала nMoL (Пасть Ло
	рхаджа). Нужны: 1 танк
	\, 2 хила\, 8 ДД. Для уч
	астия необходимо
	 нажать кнопку \"Пойд
	у\" справа и написать
	 свой игровой ID и ро
	ль ниже.\nЕсли вы
	 первый раз в данн
	ом триале - все 
	расскажу. Кол
	ичество захо
	дов 1-2 в зависи
	мости от скорости прохо
	ждения. Сбор начинается з
	а 15 минут т.е. в 11.45\, ес
	ли вас не будет
	 к этому времен
	и\, то ваше м
	есто может за
	нять любой желающий 
	из гильдии. Обязате
	льно присутствие в Te
	amspeak\, канал фар
	мовое испытан
	ие. Собираемся в гильдх
	олле (Большое топальское 
	убежище\, тп на @Kibert)
	 \, у вас должен быть табард. Необх
	одимые аддоны: Code Combat Alert\nRaid Notifier\nBandit U
	ser Interface Обращаю ваш
	е внимание на т
	о\, что это не у
	чебное испыта
	ние и отметки с
	тавиться не бу
	дут. Для похода
	 в данный триал у вас должно быть доп
	олнение \"Гильдия воров\".
DTSTART:20210116T090000Z
ATTENDEE;CN="Helenar";CUTYPE=INDIVIDUAL;PARTSTAT=ACCEPTED:we
	b@bandits-clan.ru
ATTENDEE;CN="Manjestik";CUTYPE=INDIVIDUAL;PARTSTAT=ACCEPTED:
	web@bandits-clan.ru
ATTENDEE;CN="GUYKA";CUTYPE=INDIVIDUAL;PARTSTAT=ACCEPTED:web@
	bandits-clan.ru
ATTENDEE;CN="VoronNika";CUTYPE=INDIVIDUAL;PARTSTAT=ACCEPTED:
	web@bandits-clan.ru
ATTENDEE;CN="timon1345";CUTYPE=INDIVIDUAL;PARTSTAT=ACCEPTED:
	web@bandits-clan.ru
ATTENDEE;CN="NekrosOldSchool";CUTYPE=INDIVIDUAL;PARTSTAT=ACC
	EPTED:web@bandits-clan.ru
ATTENDEE;CN="Darkobarko";CUTYPE=INDIVIDUAL;PARTSTAT=ACCEPTED
	:web@bandits-clan.ru
ATTENDEE;CN="SpawnOfAzar";CUTYPE=INDIVIDUAL;PARTSTAT=ACCEPTE
	D:web@bandits-clan.ru
ATTENDEE;CN="trost01";CUTYPE=INDIVIDUAL;PARTSTAT=ACCEPTED:we
	b@bandits-clan.ru
ATTENDEE;CN="rlp zadrotikus";CUTYPE=INDIVIDUAL;PARTSTAT=ACCE
	PTED:web@bandits-clan.ru
ATTENDEE;CN="Kaltcifer";CUTYPE=INDIVIDUAL;PARTSTAT=ACCEPTED:
	web@bandits-clan.ru
ATTENDEE;CN="Ghost_77";CUTYPE=INDIVIDUAL;PARTSTAT=ACCEPTED:w
	eb@bandits-clan.ru
END:VEVENT
END:VCALENDAR
