BEGIN:VCALENDAR
VERSION:2.0
PRODID:-//InvisionCommunity Events 4.7.14//EN
METHOD:PUBLISH
CALSCALE:GREGORIAN
REFRESH-INTERVAL:PT15M
X-PUBLISHED-TTL:PT15M
X-WR-CALNAME:The Elder Scrolls Online
NAME:The Elder Scrolls Online
BEGIN:VTIMEZONE
TZID:Europe/London
TZURL:http://tzurl.org/zoneinfo/Europe/London
X-LIC-LOCATION:Europe/London
BEGIN:DAYLIGHT
TZOFFSETFROM:+0000
TZOFFSETTO:+0100
TZNAME:BST
DTSTART:20210328T020000Z
RRULE:FREQ=YEARLY;BYMONTH=3;BYDAY=-1SU
END:DAYLIGHT
BEGIN:STANDARD
TZOFFSETFROM:+0100
TZOFFSETTO:+0000
TZNAME:GMT
DTSTART:20211031T020000Z
RRULE:FREQ=YEARLY;BYMONTH=10;BYDAY=-1SU
END:STANDARD
END:VTIMEZONE
BEGIN:VEVENT
SUMMARY:[TESO] Фармовое испытание nCR+0 (К
	лаудрест)
DTSTAMP:20210111T124229Z
SEQUENCE:2
UID:8777-1-afb15bc42254ad5fb0481ce5e9c8144d@forum.bandits-clan.ru
ORGANIZER;CN="VladRevenant":web@bandits-clan.ru
DESCRIPTION:\n	Приглашаю желающих
	 от 160 ОГ в 18:50 по МСК пофар
	мить испытание nCR+0 (нормал Клаудр
	ест)\n\n\n\n	 \n\n\n\n	Будут нужны: 1-2 т
	анк\, 2 хила\, 7-8 дд (Для
	 подтверждения 
	нажимаем кнопку \"
	Пойду\"\, ниже в комментар
	иях указываем свой игровой I
	D и роль)\n\n\n\n	 \n\n\n\n	Необходимо
	 дополнение \"Саммерсет\"\n\n\n\n	
	 \n\n\n\n	Сбор в гильдхолле за 10-15 м
	инут до начала (18:35-18:40)
	\, заходим в ТС\,
	 канал Фармово
	е испытание (На
	хождение в ТС об
	язательно! Можно
	 без голоса\, но с
	 возможностью сл
	ушать)\nНезабываем про: 
	Табарды\, Камни душ\, Рем.комп
	лекты\, Банки\n\n\n\n	 \n\n\n\n	
	Отметки ставитьс
	я НЕ БУДУТ!\nСделае
	м 3-4 захода (ес
	ли соберется х
	орошая группа\,
	 сможем сделать по
	больше заходов)\, поф
	армим сеты:\nРелеквен\;\nСиррория\;\nГа
	ленве\;\nОлорима.\n
DTSTART:20210116T155000Z
ATTENDEE;CN="Den13ka";CUTYPE=INDIVIDUAL;PARTSTAT=ACCEPTED:we
	b@bandits-clan.ru
ATTENDEE;CN="VladRevenant";CUTYPE=INDIVIDUAL;PARTSTAT=ACCEPT
	ED:web@bandits-clan.ru
ATTENDEE;CN="Yoka";CUTYPE=INDIVIDUAL;PARTSTAT=ACCEPTED:web@b
	andits-clan.ru
ATTENDEE;CN="GUYKA";CUTYPE=INDIVIDUAL;PARTSTAT=ACCEPTED:web@
	bandits-clan.ru
ATTENDEE;CN="VoronNika";CUTYPE=INDIVIDUAL;PARTSTAT=ACCEPTED:
	web@bandits-clan.ru
ATTENDEE;CN="Count";CUTYPE=INDIVIDUAL;PARTSTAT=ACCEPTED:web@
	bandits-clan.ru
ATTENDEE;CN="timon1345";CUTYPE=INDIVIDUAL;PARTSTAT=ACCEPTED:
	web@bandits-clan.ru
ATTENDEE;CN="Nephilimeaw";CUTYPE=INDIVIDUAL;PARTSTAT=ACCEPTE
	D:web@bandits-clan.ru
ATTENDEE;CN="StephenDedalus";CUTYPE=INDIVIDUAL;PARTSTAT=ACCE
	PTED:web@bandits-clan.ru
ATTENDEE;CN="Aleksandr(Шилов)";CUTYPE=INDIVIDUAL;PARTST
	AT=ACCEPTED:web@bandits-clan.ru
ATTENDEE;CN="Helenar";CUTYPE=INDIVIDUAL;PARTSTAT=ACCEPTED:we
	b@bandits-clan.ru
ATTENDEE;CN="Hrom";CUTYPE=INDIVIDUAL;PARTSTAT=ACCEPTED:web@b
	andits-clan.ru
ATTENDEE;CN="trost01";CUTYPE=INDIVIDUAL;PARTSTAT=ACCEPTED:we
	b@bandits-clan.ru
ATTENDEE;CN="Kaltcifer";CUTYPE=INDIVIDUAL;PARTSTAT=ACCEPTED:
	web@bandits-clan.ru
END:VEVENT
END:VCALENDAR
