BEGIN:VCALENDAR
VERSION:2.0
PRODID:-//InvisionCommunity Events 4.7.14//EN
METHOD:PUBLISH
CALSCALE:GREGORIAN
REFRESH-INTERVAL:PT15M
X-PUBLISHED-TTL:PT15M
X-WR-CALNAME:The Elder Scrolls Online
NAME:The Elder Scrolls Online
BEGIN:VTIMEZONE
TZID:Europe/London
TZURL:http://tzurl.org/zoneinfo/Europe/London
X-LIC-LOCATION:Europe/London
BEGIN:DAYLIGHT
TZOFFSETFROM:+0000
TZOFFSETTO:+0100
TZNAME:BST
DTSTART:20210328T020000Z
RRULE:FREQ=YEARLY;BYMONTH=3;BYDAY=-1SU
END:DAYLIGHT
BEGIN:STANDARD
TZOFFSETFROM:+0100
TZOFFSETTO:+0000
TZNAME:GMT
DTSTART:20211031T020000Z
RRULE:FREQ=YEARLY;BYMONTH=10;BYDAY=-1SU
END:STANDARD
END:VTIMEZONE
BEGIN:VEVENT
SUMMARY:[TESO] Ветеранские подземелья с Ер
	маком
DTSTAMP:20210111T064328Z
SEQUENCE:0
UID:8769-1-afb15bc42254ad5fb0481ce5e9c8144d@forum.bandits-clan.ru
ORGANIZER;CN="Epmak":web@bandits-clan.ru
DESCRIPTION: КУРС МОЛ
	ОДОГО БОЙЦА (в
	етеранские по
	дземелья) от 
	нашего соклан
	овца Ермака!\
	n\"Приглашаю вс
	ех желающих 
	провести вре
	мя в приятной
	 компании\, а
	 заодно про
	йти ежедне
	вные задания 
	Неустрашимых 
	(либо другие подземел
	ья на выбор группы).\nВетеранские д
	анжи - от 160+ ЧП\, DLC - от 300+ ЧП.\n_______________________
	______________________ Научу\, пока
	жу\, расскажу все м
	еханики и тактику.\n
	Стрим - не помеха\,
	 а приятный бону
	с!\nТы готов пой
	ти в поход за н
	ужным монстр-с
	етом и пройти Ку
	рс Молодого бойца
	?\nНайди меня в тимспике к
	лана.\nНе можешь найти? П
	иши мне в игре (@epm
	ak) или на фор
	уме. Внима
	ние! Необходима м
	инимальная аттестация ДД. Подро
	бней об аттестации http://forum.bandits-clan.ru/index.php
	?showtopic=52547 Всего 3 места.
	 Спешите!\nНаличие
	 ТС обязательно.\
	nСбор в ТС\, к
	анал Галлифрей.\nОбязательно 
	жмите кнопку подтверждения участия.
DTSTART:20210113T150000Z
ATTENDEE;CN="DariusL";CUTYPE=INDIVIDUAL;PARTSTAT=ACCEPTED:we
	b@bandits-clan.ru
ATTENDEE;CN="Sinbann";CUTYPE=INDIVIDUAL;PARTSTAT=ACCEPTED:we
	b@bandits-clan.ru
ATTENDEE;CN="Kapitul";CUTYPE=INDIVIDUAL;PARTSTAT=ACCEPTED:we
	b@bandits-clan.ru
END:VEVENT
END:VCALENDAR
