BEGIN:VCALENDAR
VERSION:2.0
PRODID:-//InvisionCommunity Events 4.7.14//EN
METHOD:PUBLISH
CALSCALE:GREGORIAN
REFRESH-INTERVAL:PT15M
X-PUBLISHED-TTL:PT15M
X-WR-CALNAME:The Elder Scrolls Online
NAME:The Elder Scrolls Online
BEGIN:VTIMEZONE
TZID:Europe/London
TZURL:http://tzurl.org/zoneinfo/Europe/London
X-LIC-LOCATION:Europe/London
BEGIN:DAYLIGHT
TZOFFSETFROM:+0000
TZOFFSETTO:+0100
TZNAME:BST
DTSTART:20210328T020000Z
RRULE:FREQ=YEARLY;BYMONTH=3;BYDAY=-1SU
END:DAYLIGHT
BEGIN:STANDARD
TZOFFSETFROM:+0100
TZOFFSETTO:+0000
TZNAME:GMT
DTSTART:20211031T020000Z
RRULE:FREQ=YEARLY;BYMONTH=10;BYDAY=-1SU
END:STANDARD
END:VTIMEZONE
BEGIN:VEVENT
SUMMARY:[TESO] Учебный вет. Изоляцион
	ный Санктуарий +1
DTSTAMP:20210106T054908Z
SEQUENCE:2
UID:8737-1-afb15bc42254ad5fb0481ce5e9c8144d@forum.bandits-clan.ru
ORGANIZER;CN="MrGlaideR":web@bandits-clan.ru
DESCRIPTION:    \nВ 19:00
	 по московскому времени 
	Приглашаю всех желающих
	 в звании Veteran Bandit+
	 пройти вете
	ранскую версию 
	испытания \"Изоляци
	онный Санктуарий\"
	 со Святым Фелмсом (
	vAS+1) (требуется доп
	олнение Заводной г
	ород) Состав:2 танка2 
	хилера8 ДД (приоритет рДД)\n\n
	Требования:Звание Veteran B
	andit+\;Наличие отметки об а
	ттестации (для ДД 35.000 
	и выше\, для танков и х
	илов аттестация ранга
	 veteran\, приоритет х
	илов и танко
	в по аттеста
	ции)\;Наличие о
	тметки о прохождени
	и ветеранской версии триала +0\;Нали
	чие аддонов Code's Combat Alerts\, RaidNotifer\, Asylum Tracker\
	, Asylum Sanctorium Status Panel\, Asylum Priority Target\;Р
	аспределение ЧП согла
	сно гайду\;Наличие гильдейского табарда 
	Daggerfall/Vanguard/Rising Bandits\;Наличие м
	икрофона\;\n\nДля уча
	стия нажимайте сп
	рава на кнопку \"П
	ойду\"\, а в коммента
	рии внизу пишите 
	свою роль и игрово
	й ID.\nСбор в Тимсп
	ике (канал Испыта
	ния - Учебное испы
	тание) и гильдхол
	ле за 10 минут до
	 начала события
	. \nРешение о 
	составе групп
	ы остается за 
	рейд лидером.
	\nСобытие пр
	одлиться мак
	симум 2 часа 
	вне зависимо
	сти от текущего 
	прогресса (возм
	ожны исключени
	я в рамках 3 ча
	сов).\nВ слу
	чае успе
	шного прох
	ождения ис
	пытания вс
	ем участни
	кам будут в
	ыставлены о
	тметки.\nПо
	сле успеш
	ного прох
	ождения события все лог
	и будут опубликованы в соответствующе
	й теме.
DTSTART:20210119T160000Z
ATTENDEE;CN="MrGlaideR";CUTYPE=INDIVIDUAL;PARTSTAT=ACCEPTED:
	web@bandits-clan.ru
ATTENDEE;CN="F4N7";CUTYPE=INDIVIDUAL;PARTSTAT=ACCEPTED:web@b
	andits-clan.ru
ATTENDEE;CN="KateSnow";CUTYPE=INDIVIDUAL;PARTSTAT=ACCEPTED:w
	eb@bandits-clan.ru
ATTENDEE;CN="GUYKA";CUTYPE=INDIVIDUAL;PARTSTAT=ACCEPTED:web@
	bandits-clan.ru
ATTENDEE;CN="Anhert";CUTYPE=INDIVIDUAL;PARTSTAT=ACCEPTED:web
	@bandits-clan.ru
ATTENDEE;CN="AQuaBonAQua";CUTYPE=INDIVIDUAL;PARTSTAT=ACCEPTE
	D:web@bandits-clan.ru
ATTENDEE;CN="NickKrem";CUTYPE=INDIVIDUAL;PARTSTAT=ACCEPTED:w
	eb@bandits-clan.ru
ATTENDEE;CN="Kapitul";CUTYPE=INDIVIDUAL;PARTSTAT=ACCEPTED:we
	b@bandits-clan.ru
END:VEVENT
END:VCALENDAR
