BEGIN:VCALENDAR
VERSION:2.0
PRODID:-//InvisionCommunity Events 4.7.14//EN
METHOD:PUBLISH
CALSCALE:GREGORIAN
REFRESH-INTERVAL:PT15M
X-PUBLISHED-TTL:PT15M
X-WR-CALNAME:The Elder Scrolls Online
NAME:The Elder Scrolls Online
BEGIN:VTIMEZONE
TZID:Europe/London
TZURL:http://tzurl.org/zoneinfo/Europe/London
X-LIC-LOCATION:Europe/London
BEGIN:DAYLIGHT
TZOFFSETFROM:+0000
TZOFFSETTO:+0100
TZNAME:BST
DTSTART:20210328T020000Z
RRULE:FREQ=YEARLY;BYMONTH=3;BYDAY=-1SU
END:DAYLIGHT
BEGIN:STANDARD
TZOFFSETFROM:+0100
TZOFFSETTO:+0000
TZNAME:GMT
DTSTART:20211031T020000Z
RRULE:FREQ=YEARLY;BYMONTH=10;BYDAY=-1SU
END:STANDARD
END:VTIMEZONE
BEGIN:VEVENT
SUMMARY:[TESO] Учебный вет. Изоляционн
	ый Санктуарий
DTSTAMP:20210106T053925Z
SEQUENCE:2
UID:8735-1-afb15bc42254ad5fb0481ce5e9c8144d@forum.bandits-clan.ru
ORGANIZER;CN="MrGlaideR":web@bandits-clan.ru
DESCRIPTION:    \nВ 19:00
	 по московскому в
	ремени Приглашаю
	 всех желающих в зв
	ании Bandit+ про
	йти ветеранскую в
	ерсию испытания \
	"Изоляционный Са
	нктуарий\" (vAS) (т
	ребуется дополн
	ение Заводной город) С
	остав:1 танк2 хилера9 ДД\
	n\nТребования:Звание Bandit
	+\;Наличие отметки об ат
	тестации (для ДД 30.000 и 
	выше\, для танков и хи
	лов аттестация ран
	га veteran)\;Наличие
	 отметки о прохождении 
	нормал версии триала\;Наличие аддонов Code
	's Combat Alerts\, RaidNotifer\;Распре
	деление ЧП согласно гайду\
	;Наличие гильдейского табарда Daggerfall/
	Vanguard/Rising Bandits\;Наличие микр
	офона\;\n\nЕсли вы 
	не подходите по 
	одному из требова
	ний выше\, но уве
	рены в своих сил
	ах - записывай
	тесь\, в случа
	е недобора рассм
	отрим. \nДля участ
	ия нажимайте спра
	ва на кнопку \"Пойд
	у\"\, а в комментарии
	 внизу пишите свою р
	оль и игровой ID.\n
	Сбор в Тимспике (
	канал Испытания 
	- Учебное испыта
	ние) и гильдхолл
	е за 10 минут д
	о начала собы
	тия. Решение
	 о составе гру
	ппы остается з
	а рейд лидером
	.\nСобытие пр
	одлиться макси
	мум 2 часа вне
	 зависимост
	и от текущег
	о прогресса
	.\nВ случае
	 успешног
	о прохожден
	ия испытани
	я всем учас
	тникам буду
	т выставлены
	 отметки.\n
	После усп
	ешного пр
	охождения события в
	се логи будут опубликованы в соответ
	ствующей теме.
DTSTART:20210112T160000Z
ATTENDEE;CN="MrGlaideR";CUTYPE=INDIVIDUAL;PARTSTAT=ACCEPTED:
	web@bandits-clan.ru
ATTENDEE;CN="F4N7";CUTYPE=INDIVIDUAL;PARTSTAT=ACCEPTED:web@b
	andits-clan.ru
ATTENDEE;CN="Zahaz";CUTYPE=INDIVIDUAL;PARTSTAT=ACCEPTED:web@
	bandits-clan.ru
ATTENDEE;CN="GUYKA";CUTYPE=INDIVIDUAL;PARTSTAT=ACCEPTED:web@
	bandits-clan.ru
ATTENDEE;CN="VoronNika";CUTYPE=INDIVIDUAL;PARTSTAT=ACCEPTED:
	web@bandits-clan.ru
ATTENDEE;CN="NickKrem";CUTYPE=INDIVIDUAL;PARTSTAT=ACCEPTED:w
	eb@bandits-clan.ru
ATTENDEE;CN="vidarr";CUTYPE=INDIVIDUAL;PARTSTAT=ACCEPTED:web
	@bandits-clan.ru
ATTENDEE;CN="Sotona88";CUTYPE=INDIVIDUAL;PARTSTAT=ACCEPTED:w
	eb@bandits-clan.ru
ATTENDEE;CN="Sergikxxx";CUTYPE=INDIVIDUAL;PARTSTAT=ACCEPTED:
	web@bandits-clan.ru
ATTENDEE;CN="Darkobarko";CUTYPE=INDIVIDUAL;PARTSTAT=ACCEPTED
	:web@bandits-clan.ru
ATTENDEE;CN="Lihar";CUTYPE=INDIVIDUAL;PARTSTAT=ACCEPTED:web@
	bandits-clan.ru
ATTENDEE;CN="Hordent";CUTYPE=INDIVIDUAL;PARTSTAT=ACCEPTED:we
	b@bandits-clan.ru
ATTENDEE;CN="CHESTER";CUTYPE=INDIVIDUAL;PARTSTAT=ACCEPTED:we
	b@bandits-clan.ru
END:VEVENT
END:VCALENDAR
