BEGIN:VCALENDAR
VERSION:2.0
PRODID:-//InvisionCommunity Events 4.7.14//EN
METHOD:PUBLISH
CALSCALE:GREGORIAN
REFRESH-INTERVAL:PT15M
X-PUBLISHED-TTL:PT15M
X-WR-CALNAME:The Elder Scrolls Online
NAME:The Elder Scrolls Online
BEGIN:VTIMEZONE
TZID:Europe/London
TZURL:http://tzurl.org/zoneinfo/Europe/London
X-LIC-LOCATION:Europe/London
BEGIN:DAYLIGHT
TZOFFSETFROM:+0000
TZOFFSETTO:+0100
TZNAME:BST
DTSTART:20210328T020000Z
RRULE:FREQ=YEARLY;BYMONTH=3;BYDAY=-1SU
END:DAYLIGHT
BEGIN:STANDARD
TZOFFSETFROM:+0100
TZOFFSETTO:+0000
TZNAME:GMT
DTSTART:20211031T020000Z
RRULE:FREQ=YEARLY;BYMONTH=10;BYDAY=-1SU
END:STANDARD
END:VTIMEZONE
BEGIN:VEVENT
SUMMARY:[TESO] ПВП-Рейд \"Bad Boys Bandits\"
DTSTAMP:20210104T152607Z
SEQUENCE:0
UID:8728-1-afb15bc42254ad5fb0481ce5e9c8144d@forum.bandits-clan.ru
ORGANIZER;CN="SociophobicCat":web@bandits-clan.ru
DESCRIPTION:\n\nГотов зажигать?
	\n\nПрисоединяйся
	 к рейду ВОЛКОВ!
	\n\nМы будем игра
	ть небольшой групп
	ой ВОЛКОВ и накажем в
	сех\, кто встанет у нас 
	на пути!\n\nЕсли ты 
	- заядлый пвпшн
	ик\, и у тебя ес
	ть желание игр
	ать ВЕРФУЛЬФОМ или САППОР
	ТОМ то я жду тебя в тимспике\, канал 
	\"Bad Boys Bandits\"\n\nНайди меня в игре - @Sociop
	hobic-Cat\, в тимспике \"Bad Boys Bandits\" и в Дискорд
	е Bad Boys Bandits. Ссылка на Дискорд в теме 
	на форуме: http://forum.bandits...showtopic=732
	80\nСоберем билды
	 друг под друга
	\, распределим такт
	ику - и нагнем Импер
	ский Город и Сиродил
	 вместе!\n\nП.С. ВСЕ Б
	ИЛДЫ в ДИСКОРДЕ\, 
	ДОБАВЛЯЙТЕСЬ!\n(Пр
	ава даем только тем\, кто погово
	рит с нами в Тимспике)!!!\nhttp://forum.bandits...showtop
	ic=73280
DTSTART:20210105T160000Z
ATTENDEE;CN="SociophobicCat";CUTYPE=INDIVIDUAL;PARTSTAT=ACCE
	PTED:web@bandits-clan.ru
ATTENDEE;CN="Nivhooreel";CUTYPE=INDIVIDUAL;PARTSTAT=ACCEPTED
	:web@bandits-clan.ru
END:VEVENT
END:VCALENDAR
