BEGIN:VCALENDAR
VERSION:2.0
PRODID:-//InvisionCommunity Events 4.7.14//EN
METHOD:PUBLISH
CALSCALE:GREGORIAN
REFRESH-INTERVAL:PT15M
X-PUBLISHED-TTL:PT15M
X-WR-CALNAME:The Elder Scrolls Online
NAME:The Elder Scrolls Online
BEGIN:VTIMEZONE
TZID:Europe/London
TZURL:http://tzurl.org/zoneinfo/Europe/London
X-LIC-LOCATION:Europe/London
BEGIN:DAYLIGHT
TZOFFSETFROM:+0000
TZOFFSETTO:+0100
TZNAME:BST
DTSTART:20210328T020000Z
RRULE:FREQ=YEARLY;BYMONTH=3;BYDAY=-1SU
END:DAYLIGHT
BEGIN:STANDARD
TZOFFSETFROM:+0100
TZOFFSETTO:+0000
TZNAME:GMT
DTSTART:20211031T020000Z
RRULE:FREQ=YEARLY;BYMONTH=10;BYDAY=-1SU
END:STANDARD
END:VTIMEZONE
BEGIN:VEVENT
SUMMARY:[TESO] Испытание Залы Фабрикаци
	и (нормал)
DTSTAMP:20210102T164234Z
SEQUENCE:2
UID:8720-1-afb15bc42254ad5fb0481ce5e9c8144d@forum.bandits-clan.ru
ORGANIZER;CN="Helenar":web@bandits-clan.ru
DESCRIPTION:В 19:00 по МСК приг
	лашаю всех желаю
	щих от 160 ОГ пройти
	 нормал версию триала \"З
	алы Фабрикации\" Нужны
	: 1 танк\, 2 хила\, 8 ДД. 
	Для участия не
	обходимо нажать кн
	опку \"Пойду\" справа
	 и написать свой иг
	ровой ID и роль ниже.
	\nЕсли вы первый р
	аз в данном триа
	ле - все расскажу. К
	оличество заходов - 1. Сбо
	р начинается за 15 минут т
	.е. в 18.45\, если вас не
	 будет к этому 
	времени\, то
	 ваше мест
	о может занять л
	юбой желающий из гил
	ьдии. Обязательно пр
	исутствие в Teamspeak
	\, канал фарм
	овое испытани
	е. Собираемся в гильдхол
	ле (Большое топальское уб
	ежище\, тп на @Kibert) \, 
	у вас должен быть табард. Необходим
	ые аддоны: Code Combat Alert\nRaid Notifier\nBandit User 
	Interface Обращаю ваше
	 внимание на то
	\, что это не уч
	ебное испытани
	е и отметки ста
	виться не будут.
	 Для похода в да
	нный триал у в
	ас должно бы
	ть дополнени
	е \"Морровинд\"
	. Если необ
	ходимое кол
	ичество людей не набер
	ется\, событие будет перенесено на другу
	ю дату.
DTSTART:20210110T160000Z
ATTENDEE;CN="VladRevenant";CUTYPE=INDIVIDUAL;PARTSTAT=ACCEPT
	ED:web@bandits-clan.ru
ATTENDEE;CN="mylordandru";CUTYPE=INDIVIDUAL;PARTSTAT=ACCEPTE
	D:web@bandits-clan.ru
ATTENDEE;CN="Dushman";CUTYPE=INDIVIDUAL;PARTSTAT=ACCEPTED:we
	b@bandits-clan.ru
ATTENDEE;CN="VoronNika";CUTYPE=INDIVIDUAL;PARTSTAT=ACCEPTED:
	web@bandits-clan.ru
ATTENDEE;CN="zumma";CUTYPE=INDIVIDUAL;PARTSTAT=ACCEPTED:web@
	bandits-clan.ru
ATTENDEE;CN="Darkobarko";CUTYPE=INDIVIDUAL;PARTSTAT=ACCEPTED
	:web@bandits-clan.ru
ATTENDEE;CN="Константин90";CUTYPE=INDIVIDUAL;PARTS
	TAT=ACCEPTED:web@bandits-clan.ru
ATTENDEE;CN="MrGlaideR";CUTYPE=INDIVIDUAL;PARTSTAT=ACCEPTED:
	web@bandits-clan.ru
ATTENDEE;CN="SpiderJerusalim";CUTYPE=INDIVIDUAL;PARTSTAT=ACC
	EPTED:web@bandits-clan.ru
ATTENDEE;CN="Manjestik";CUTYPE=INDIVIDUAL;PARTSTAT=ACCEPTED:
	web@bandits-clan.ru
ATTENDEE;CN="EHoTMorty";CUTYPE=INDIVIDUAL;PARTSTAT=ACCEPTED:
	web@bandits-clan.ru
ATTENDEE;CN="Canis";CUTYPE=INDIVIDUAL;PARTSTAT=ACCEPTED:web@
	bandits-clan.ru
END:VEVENT
END:VCALENDAR
