BEGIN:VCALENDAR
VERSION:2.0
PRODID:-//InvisionCommunity Events 4.7.14//EN
METHOD:PUBLISH
CALSCALE:GREGORIAN
REFRESH-INTERVAL:PT15M
X-PUBLISHED-TTL:PT15M
X-WR-CALNAME:The Elder Scrolls Online
NAME:The Elder Scrolls Online
BEGIN:VTIMEZONE
TZID:Europe/London
TZURL:http://tzurl.org/zoneinfo/Europe/London
X-LIC-LOCATION:Europe/London
BEGIN:DAYLIGHT
TZOFFSETFROM:+0000
TZOFFSETTO:+0100
TZNAME:BST
DTSTART:20210328T020000Z
RRULE:FREQ=YEARLY;BYMONTH=3;BYDAY=-1SU
END:DAYLIGHT
BEGIN:STANDARD
TZOFFSETFROM:+0100
TZOFFSETTO:+0000
TZNAME:GMT
DTSTART:20211031T020000Z
RRULE:FREQ=YEARLY;BYMONTH=10;BYDAY=-1SU
END:STANDARD
END:VTIMEZONE
BEGIN:VEVENT
SUMMARY:(TESO) Отборочный рейд сибирског
	о статика (vet MoL)
DTSTAMP:20210102T053843Z
SEQUENCE:0
UID:8718-1-afb15bc42254ad5fb0481ce5e9c8144d@forum.bandits-clan.ru
ORGANIZER;CN="Bandit":web@bandits-clan.ru
DESCRIPTION:\n	С 16 30 по мск\n\n\n	Статику Stalhr
	im Warriors требуются дд!\
	n\n	Играешь по с
	ибирскому прайм
	-тайму и хочешь покорит
	ь сложный контент?\n\n	Проверь себ
	я!\n\n\n	Мы ищем дд от 35+к dps
	 - тех\, кто способе
	н учиться и играть 
	в группе\, вместе 
	с нами. Наши рейды 
	- постоянные\, с
	татику несколь
	ко лет.  Ждем 
	тех\, кто плани
	рует играть длител
	ьное время (минимум 
	несколько месяцев) .\n\
	n	С дпс и гиром поможем
	\, главное - твое жел
	ание!\n\n\n	А се
	годня приг
	лашаем теб
	я сходить 
	в ветеран
	ское испытан
	ие Пасть Лоркх
	аджа (требует
	ся дополнение
	 Гильдия воров)
	. Этот триал -
	 хорошая возмо
	жность показать н
	а что ты способен и п
	ознакомиться с нами!\
	n\n	Даже если ты там не был
	 - мы все покажем\, расска
	жем и научим.\n\n\n	С
	егодня - места для 6 дд
	 максимум. Подтвержденна
	я аттестация от 35к dps.\n\n\n	Тимспик\, 
	канал Северная сторона.\n
DTSTART:20210129T133000Z
ATTENDEE;CN="Bandit";CUTYPE=INDIVIDUAL;PARTSTAT=ACCEPTED:web
	@bandits-clan.ru
ATTENDEE;CN="Harrin";CUTYPE=INDIVIDUAL;PARTSTAT=ACCEPTED:web
	@bandits-clan.ru
ATTENDEE;CN="VoronNika";CUTYPE=INDIVIDUAL;PARTSTAT=ACCEPTED:
	web@bandits-clan.ru
END:VEVENT
END:VCALENDAR
