BEGIN:VCALENDAR
VERSION:2.0
PRODID:-//InvisionCommunity Events 4.7.14//EN
METHOD:PUBLISH
CALSCALE:GREGORIAN
REFRESH-INTERVAL:PT15M
X-PUBLISHED-TTL:PT15M
X-WR-CALNAME:The Elder Scrolls Online
NAME:The Elder Scrolls Online
BEGIN:VTIMEZONE
TZID:Europe/London
TZURL:http://tzurl.org/zoneinfo/Europe/London
X-LIC-LOCATION:Europe/London
BEGIN:DAYLIGHT
TZOFFSETFROM:+0000
TZOFFSETTO:+0100
TZNAME:BST
DTSTART:20210328T020000Z
RRULE:FREQ=YEARLY;BYMONTH=3;BYDAY=-1SU
END:DAYLIGHT
BEGIN:STANDARD
TZOFFSETFROM:+0100
TZOFFSETTO:+0000
TZNAME:GMT
DTSTART:20211031T020000Z
RRULE:FREQ=YEARLY;BYMONTH=10;BYDAY=-1SU
END:STANDARD
END:VTIMEZONE
BEGIN:VEVENT
SUMMARY:[TESO] Фармовое испытание Солнечн
	ый Шпиль (нормал)
DTSTAMP:20210102T004645Z
SEQUENCE:2
UID:8710-1-afb15bc42254ad5fb0481ce5e9c8144d@forum.bandits-clan.ru
ORGANIZER;CN="Helenar":web@bandits-clan.ru
DESCRIPTION:\nВ 19:45 по МСК приг
	лашаю всех желаю
	щих от 160 ОГ пройти 
	нормал версию триал
	а \"Солнечный шпиль\"\n\
	nСписок падающих сетов:\n-
	 Йолнакрин\;\n- Ложный бог\;\n
	- Локкестиз.\n- Навинтас.\n\nН
	ужны: 1 танк\, 2 хила\,
	 8 ДД. Для участия
	 необходимо нажать
	 кнопку \"Пойду\" спра
	ва и написать свой 
	игровой ID и роль н
	иже.\nЕсли вы пе
	рвый раз в данном
	 триале - все рас
	скажу. Количество
	 заходов 1-2 в зави
	симости от скорости пр
	охождения.\n\nСбор начи
	нается в 19.30\, если в
	ас не будет к э
	тому времени\, то
	 ваше место мо
	жет занять любой жел
	ающий из гильдии.\n\nОбя
	зательно присутствие 
	в Teamspeak\, канал фа
	рмовое испыт
	ание. Собираемся в ги
	льдхолле (Большое топаль
	ское убежище\, тп на @Kibert
	) \, у вас должен быть табард.\n\nНео
	бходимые аддоны:\n\nCode Combat Alert\nRaid Notifier\nBandit
	 User Interface\n\nОбращаю ваш
	е внимание на т
	о\, что это не у
	чебное испыта
	ние и отметки с
	тавиться не бу
	дут. Для похода в 
	данный триал у ва
	с должно быть до
	полнение \"Эльсве
	йр\".\n\nЕсли нео
	бходимое ко
	личество людей не на
	берется\, событие будет перенесено на др
	угую дату.
DTSTART:20210108T164500Z
ATTENDEE;CN="mamsik";CUTYPE=INDIVIDUAL;PARTSTAT=ACCEPTED:web
	@bandits-clan.ru
ATTENDEE;CN="VoronNika";CUTYPE=INDIVIDUAL;PARTSTAT=ACCEPTED:
	web@bandits-clan.ru
ATTENDEE;CN="Helenar";CUTYPE=INDIVIDUAL;PARTSTAT=ACCEPTED:we
	b@bandits-clan.ru
ATTENDEE;CN="Liverpooltagil";CUTYPE=INDIVIDUAL;PARTSTAT=ACCE
	PTED:web@bandits-clan.ru
ATTENDEE;CN="Dushman";CUTYPE=INDIVIDUAL;PARTSTAT=ACCEPTED:we
	b@bandits-clan.ru
ATTENDEE;CN="Orcoholist";CUTYPE=INDIVIDUAL;PARTSTAT=ACCEPTED
	:web@bandits-clan.ru
ATTENDEE;CN="SeaMarisha";CUTYPE=INDIVIDUAL;PARTSTAT=ACCEPTED
	:web@bandits-clan.ru
ATTENDEE;CN="Sotona88";CUTYPE=INDIVIDUAL;PARTSTAT=ACCEPTED:w
	eb@bandits-clan.ru
ATTENDEE;CN="LUTOVOLK48";CUTYPE=INDIVIDUAL;PARTSTAT=ACCEPTED
	:web@bandits-clan.ru
ATTENDEE;CN="mylordandru";CUTYPE=INDIVIDUAL;PARTSTAT=ACCEPTE
	D:web@bandits-clan.ru
ATTENDEE;CN="TuTaH";CUTYPE=INDIVIDUAL;PARTSTAT=ACCEPTED:web@
	bandits-clan.ru
ATTENDEE;CN="Nephilimeaw";CUTYPE=INDIVIDUAL;PARTSTAT=ACCEPTE
	D:web@bandits-clan.ru
ATTENDEE;CN="trost01";CUTYPE=INDIVIDUAL;PARTSTAT=ACCEPTED:we
	b@bandits-clan.ru
ATTENDEE;CN="Nbait";CUTYPE=INDIVIDUAL;PARTSTAT=ACCEPTED:web@
	bandits-clan.ru
ATTENDEE;CN="Burguluk";CUTYPE=INDIVIDUAL;PARTSTAT=ACCEPTED:w
	eb@bandits-clan.ru
END:VEVENT
END:VCALENDAR
