BEGIN:VCALENDAR
VERSION:2.0
PRODID:-//InvisionCommunity Events 4.7.14//EN
METHOD:PUBLISH
CALSCALE:GREGORIAN
REFRESH-INTERVAL:PT15M
X-PUBLISHED-TTL:PT15M
X-WR-CALNAME:The Elder Scrolls Online
NAME:The Elder Scrolls Online
BEGIN:VTIMEZONE
TZID:Europe/London
TZURL:http://tzurl.org/zoneinfo/Europe/London
X-LIC-LOCATION:Europe/London
BEGIN:DAYLIGHT
TZOFFSETFROM:+0000
TZOFFSETTO:+0100
TZNAME:BST
DTSTART:20210328T020000Z
RRULE:FREQ=YEARLY;BYMONTH=3;BYDAY=-1SU
END:DAYLIGHT
BEGIN:STANDARD
TZOFFSETFROM:+0100
TZOFFSETTO:+0000
TZNAME:GMT
DTSTART:20211031T020000Z
RRULE:FREQ=YEARLY;BYMONTH=10;BYDAY=-1SU
END:STANDARD
END:VTIMEZONE
BEGIN:VEVENT
SUMMARY:(TESO) ПвП от 10 уровня за Ковенант
DTSTAMP:20210101T120428Z
SEQUENCE:0
UID:8703-1-afb15bc42254ad5fb0481ce5e9c8144d@forum.bandits-clan.ru
ORGANIZER;CN="Anioto":web@bandits-clan.ru
DESCRIPTION:\nС 18 00 по Мск\n\nОт 10 у
	ровня\, ПвП в Сиродиле\,
	 за Ковенант (синий аль
	янс\, лев) рл - Баев.\nВсе
	 покажут\, расскажу
	т\, научат.\n\nТимспи
	к\, канал Сиродил. Гильдейские накид
	ки обязательны.
DTSTART:20210131T150000Z
END:VEVENT
END:VCALENDAR
