BEGIN:VCALENDAR
VERSION:2.0
PRODID:-//InvisionCommunity Events 4.7.14//EN
METHOD:PUBLISH
CALSCALE:GREGORIAN
REFRESH-INTERVAL:PT15M
X-PUBLISHED-TTL:PT15M
X-WR-CALNAME:The Elder Scrolls Online
NAME:The Elder Scrolls Online
BEGIN:VTIMEZONE
TZID:Europe/London
TZURL:http://tzurl.org/zoneinfo/Europe/London
X-LIC-LOCATION:Europe/London
BEGIN:DAYLIGHT
TZOFFSETFROM:+0000
TZOFFSETTO:+0100
TZNAME:BST
DTSTART:20210328T020000Z
RRULE:FREQ=YEARLY;BYMONTH=3;BYDAY=-1SU
END:DAYLIGHT
BEGIN:STANDARD
TZOFFSETFROM:+0100
TZOFFSETTO:+0000
TZNAME:GMT
DTSTART:20211031T020000Z
RRULE:FREQ=YEARLY;BYMONTH=10;BYDAY=-1SU
END:STANDARD
END:VTIMEZONE
BEGIN:VEVENT
SUMMARY:[TESO] Учебное подземелье Каменн
	ый сад ХАРДМОД
DTSTAMP:20210101T014638Z
SEQUENCE:2
UID:8693-1-afb15bc42254ad5fb0481ce5e9c8144d@forum.bandits-clan.ru
ORGANIZER;CN="MrGlaideR":web@bandits-clan.ru
DESCRIPTION:   \nВ 19:00 п
	о московскому вр
	емени Приглашаю 
	всех желающих в зв
	ании Bandit+ пройти 
	версию ветера
	нского подземел
	ья \"Каменный с
	ад\" с включен
	ием хардмода
	 на всех бос
	сах (требует
	ся дополнен
	ие Камни и 
	Шипы) Пред
	лагаю на пр
	аздничной 
	недели в р
	амках небо
	льшого отд
	ыха от три
	алов пройти
	 невероятно 
	интересный д
	анж с механик
	ой включения ХМ
	а на всех боссах
	 как в Солнечном
	 Шпиле или Эгиде 
	Кин\, покажу и о
	бъясню все меха
	ники и тактики\,
	 отлично провед
	ём время и закрое
	м ХМ\, записывайтесь\, м
	еста ограниченны!  Состав
	:1 танк\n1 хилер\n2 ДД\n\nТребо
	вания:Звание Bandit+\;\nНали
	чие отметки об аттеста
	ции (для ДД 35.000 и выше\, для
	 танков и хилов аттес
	тация ранга veteran)\;\nНаличие гильде
	йского табарда Daggerfall/Vanguard/Rising Ban
	dits\;\nНаличие микроф
	она\;\n\nЕсли вы не 
	подходите по од
	ному из требовани
	й выше\, но увере
	ны в своих силах
	 - записывайтес
	ь\, в случае н
	едобора рассмотри
	м. \nДля участия на
	жимайте справа на
	 кнопку \"Пойду\"\, а в
	 комментарии внизу
	 пишите свою роль 
	и игровой ID.\nСбор в 
	Тимспике (канал Под
	земелья и Арена - Г
	руппа 1) и гильдх
	олле за 10 мину
	т до начала событи
	я. Решение о составе группы ост
	ается за рейд лидером.
DTSTART:20210105T160000Z
ATTENDEE;CN="MrGlaideR";CUTYPE=INDIVIDUAL;PARTSTAT=ACCEPTED:
	web@bandits-clan.ru
ATTENDEE;CN="Kirill_Official";CUTYPE=INDIVIDUAL;PARTSTAT=ACC
	EPTED:web@bandits-clan.ru
ATTENDEE;CN="NickKrem";CUTYPE=INDIVIDUAL;PARTSTAT=ACCEPTED:w
	eb@bandits-clan.ru
ATTENDEE;CN="KateSnow";CUTYPE=INDIVIDUAL;PARTSTAT=ACCEPTED:w
	eb@bandits-clan.ru
ATTENDEE;CN="Aleksnow";CUTYPE=INDIVIDUAL;PARTSTAT=ACCEPTED:w
	eb@bandits-clan.ru
ATTENDEE;CN="Sotona88";CUTYPE=INDIVIDUAL;PARTSTAT=ACCEPTED:w
	eb@bandits-clan.ru
ATTENDEE;CN="F4N7";CUTYPE=INDIVIDUAL;PARTSTAT=ACCEPTED:web@b
	andits-clan.ru
ATTENDEE;CN="DrDealer";CUTYPE=INDIVIDUAL;PARTSTAT=ACCEPTED:w
	eb@bandits-clan.ru
END:VEVENT
END:VCALENDAR
