BEGIN:VCALENDAR
VERSION:2.0
PRODID:-//InvisionCommunity Events 4.7.14//EN
METHOD:PUBLISH
CALSCALE:GREGORIAN
REFRESH-INTERVAL:PT15M
X-PUBLISHED-TTL:PT15M
X-WR-CALNAME:The Elder Scrolls Online
NAME:The Elder Scrolls Online
BEGIN:VTIMEZONE
TZID:Europe/London
TZURL:http://tzurl.org/zoneinfo/Europe/London
X-LIC-LOCATION:Europe/London
BEGIN:DAYLIGHT
TZOFFSETFROM:+0000
TZOFFSETTO:+0100
TZNAME:BST
DTSTART:20210328T020000Z
RRULE:FREQ=YEARLY;BYMONTH=3;BYDAY=-1SU
END:DAYLIGHT
BEGIN:STANDARD
TZOFFSETFROM:+0100
TZOFFSETTO:+0000
TZNAME:GMT
DTSTART:20211031T020000Z
RRULE:FREQ=YEARLY;BYMONTH=10;BYDAY=-1SU
END:STANDARD
END:VTIMEZONE
BEGIN:VEVENT
SUMMARY:[TESO] Учебное испытание Клаудре
	ст(вет)
DTSTAMP:20201231T095858Z
SEQUENCE:2
UID:8690-1-afb15bc42254ad5fb0481ce5e9c8144d@forum.bandits-clan.ru
ORGANIZER;CN="Skybae":web@bandits-clan.ru
DESCRIPTION:В 21.00 по МСК при
	глашаю желающ
	их от 500 ОГ пройт
	и Клаудрест вет Для 
	успешнго прохождени
	я добираю: 3-4 ДД. 30к дп
	са+\nДля подтверждени
	я нажать \"Пойду\"\, 
	указать свой ID и ро
	ль в комментариях.\
	nПриоритет для мана
	 рдд (мана нб\, ман
	а некр\, мана сор
	ка\, остальны
	е манщики при
	 условии умени
	я играть в рд
	д). Необходим дополн
	ение \"Саммерсет\". О
	бязательно присутстви
	е в Teamspeak канал Учебное 
	испытание .\nСбор в гиль
	дхолле за 15 минут (в 2
	0.45 МСК). В слу
	чае успеш
	ного прохо
	ждения\, бу
	дут проста
	влены отметки
	. Формирование 
	группы на усмотре
	ние РЛа. (Приоритет н
	а дд см. требовани
	я\, и не имеющих от
	метки) P.S. Дан
	ный формат 
	эксперемен
	тален\, при успехи 
	событие будет пов
	торятся на регулярн
	ой основе\nP.P.S. На данное событие та
	нки и хилы пока не берутся
DTSTART:20210109T180000Z
ATTENDEE;CN="Alliya518";CUTYPE=INDIVIDUAL;PARTSTAT=ACCEPTED:
	web@bandits-clan.ru
ATTENDEE;CN="Fumko";CUTYPE=INDIVIDUAL;PARTSTAT=ACCEPTED:web@
	bandits-clan.ru
ATTENDEE;CN="vidarr";CUTYPE=INDIVIDUAL;PARTSTAT=ACCEPTED:web
	@bandits-clan.ru
ATTENDEE;CN="RevanxDark";CUTYPE=INDIVIDUAL;PARTSTAT=ACCEPTED
	:web@bandits-clan.ru
ATTENDEE;CN="Aleksandr(Шилов)";CUTYPE=INDIVIDUAL;PARTST
	AT=ACCEPTED:web@bandits-clan.ru
ATTENDEE;CN="Orcoholist";CUTYPE=INDIVIDUAL;PARTSTAT=ACCEPTED
	:web@bandits-clan.ru
ATTENDEE;CN="CMDRAstion";CUTYPE=INDIVIDUAL;PARTSTAT=ACCEPTED
	:web@bandits-clan.ru
ATTENDEE;CN="Alzim";CUTYPE=INDIVIDUAL;PARTSTAT=ACCEPTED:web@
	bandits-clan.ru
ATTENDEE;CN="Dushman";CUTYPE=INDIVIDUAL;PARTSTAT=ACCEPTED:we
	b@bandits-clan.ru
ATTENDEE;CN="Erfinder95";CUTYPE=INDIVIDUAL;PARTSTAT=ACCEPTED
	:web@bandits-clan.ru
ATTENDEE;CN="Anhert";CUTYPE=INDIVIDUAL;PARTSTAT=ACCEPTED:web
	@bandits-clan.ru
ATTENDEE;CN="Kandibobier";CUTYPE=INDIVIDUAL;PARTSTAT=ACCEPTE
	D:web@bandits-clan.ru
ATTENDEE;CN="Kirill_Official";CUTYPE=INDIVIDUAL;PARTSTAT=ACC
	EPTED:web@bandits-clan.ru
END:VEVENT
END:VCALENDAR
