BEGIN:VCALENDAR
VERSION:2.0
PRODID:-//InvisionCommunity Events 4.7.14//EN
METHOD:PUBLISH
CALSCALE:GREGORIAN
REFRESH-INTERVAL:PT15M
X-PUBLISHED-TTL:PT15M
X-WR-CALNAME:The Elder Scrolls Online
NAME:The Elder Scrolls Online
BEGIN:VTIMEZONE
TZID:Europe/London
TZURL:http://tzurl.org/zoneinfo/Europe/London
X-LIC-LOCATION:Europe/London
BEGIN:DAYLIGHT
TZOFFSETFROM:+0000
TZOFFSETTO:+0100
TZNAME:BST
DTSTART:20200329T020000Z
RRULE:FREQ=YEARLY;BYMONTH=3;BYDAY=-1SU
END:DAYLIGHT
BEGIN:STANDARD
TZOFFSETFROM:+0100
TZOFFSETTO:+0000
TZNAME:GMT
DTSTART:20201025T020000Z
RRULE:FREQ=YEARLY;BYMONTH=10;BYDAY=-1SU
END:STANDARD
END:VTIMEZONE
BEGIN:VEVENT
SUMMARY:[TESO] Учебный триал vAS (Изоляционн
	ый санктуарий)
DTSTAMP:20201224T104709Z
SEQUENCE:0
UID:8661-1-afb15bc42254ad5fb0481ce5e9c8144d@forum.bandits-clan.ru
ORGANIZER;CN="Ghost_77":web@bandits-clan.ru
DESCRIPTION:Обучающий в
	етеранский три
	ал AS (Изоляционный 
	санктуарий)\nДля до
	ступа к триалу требуется
	 DLC \"Заводной город\" \nН
	ачало события 19-00 по МСК
	\nСбор начинается в 18-50. Ес
	ли вы записались\, но 
	не пришли до 19-00\
	, ваше место мож
	ет занять любой желающий и
	з чата.   Требования:\n- Зван
	ие от Raider/Warrior и выше\n- Подтв
	ержденный ДПС 30k+ для дд\n-
	 Танк и хил аттестация ранга norma
	l\n- Табард гильдии\n- TeamS
	peak\n- Отметка о пр
	охождении но
	рмал версии 
	триала с гиль
	дией\n(Если вы 
	не соответст
	вуете определ
	енному требовани
	ю\, но уверены\,
	 что хорошо сп
	равитесь со св
	оей задачей\, 
	просьба связаться с
	о мной в игре или на форуме
	)   Нам потребуются:\n- 1-2 танка\n- 
	2 хила\n- 8-9 дд (только rdd ил
	и mdd(дпс 40к+))   За
	пись в комментар
	иях обязательна (
	с указанием роли и I
	D\, если он отлич
	ается от форум
	ного) PS\nРеше
	ние о коне
	чном состав
	е группы остае
	тся за рейд-лид
	ером  Продолжитель
	ность события - не бо
	лее 2 часов (рейд з
	акончится в 21-
	00 мск независи
	мо от текущего 
	прогресса (возможн
	ы исключения)(и еще о
	дна скобочка))\nСбо
	р\, перекуры\, перекус
	ы и т.д. также вход
	ят в указанные 
	2 часа\, так чт
	о прошу всех приходит
	ь вовремя и подготовленными на все 
	случаи жизни)
DTSTART:20201230T160000Z
ATTENDEE;CN="sinister2000";CUTYPE=INDIVIDUAL;PARTSTAT=ACCEPT
	ED:web@bandits-clan.ru
ATTENDEE;CN="Ghost_77";CUTYPE=INDIVIDUAL;PARTSTAT=ACCEPTED:w
	eb@bandits-clan.ru
ATTENDEE;CN="vidarr";CUTYPE=INDIVIDUAL;PARTSTAT=ACCEPTED:web
	@bandits-clan.ru
ATTENDEE;CN="Ил Арион";CUTYPE=INDIVIDUAL;PARTSTAT=ACC
	EPTED:web@bandits-clan.ru
ATTENDEE;CN="Harrin";CUTYPE=INDIVIDUAL;PARTSTAT=ACCEPTED:web
	@bandits-clan.ru
ATTENDEE;CN="Aleksandr(Шилов)";CUTYPE=INDIVIDUAL;PARTST
	AT=ACCEPTED:web@bandits-clan.ru
ATTENDEE;CN="mamsik";CUTYPE=INDIVIDUAL;PARTSTAT=ACCEPTED:web
	@bandits-clan.ru
ATTENDEE;CN="Alucard";CUTYPE=INDIVIDUAL;PARTSTAT=ACCEPTED:we
	b@bandits-clan.ru
ATTENDEE;CN="Mitrain";CUTYPE=INDIVIDUAL;PARTSTAT=ACCEPTED:we
	b@bandits-clan.ru
ATTENDEE;CN="Sotona88";CUTYPE=INDIVIDUAL;PARTSTAT=ACCEPTED:w
	eb@bandits-clan.ru
ATTENDEE;CN="Kapitul";CUTYPE=INDIVIDUAL;PARTSTAT=ACCEPTED:we
	b@bandits-clan.ru
END:VEVENT
END:VCALENDAR
