BEGIN:VCALENDAR
VERSION:2.0
PRODID:-//InvisionCommunity Events 4.7.14//EN
METHOD:PUBLISH
CALSCALE:GREGORIAN
REFRESH-INTERVAL:PT15M
X-PUBLISHED-TTL:PT15M
X-WR-CALNAME:The Elder Scrolls Online
NAME:The Elder Scrolls Online
BEGIN:VTIMEZONE
TZID:Europe/London
TZURL:http://tzurl.org/zoneinfo/Europe/London
X-LIC-LOCATION:Europe/London
BEGIN:DAYLIGHT
TZOFFSETFROM:+0000
TZOFFSETTO:+0100
TZNAME:BST
DTSTART:20200329T020000Z
RRULE:FREQ=YEARLY;BYMONTH=3;BYDAY=-1SU
END:DAYLIGHT
BEGIN:STANDARD
TZOFFSETFROM:+0100
TZOFFSETTO:+0000
TZNAME:GMT
DTSTART:20201025T020000Z
RRULE:FREQ=YEARLY;BYMONTH=10;BYDAY=-1SU
END:STANDARD
END:VTIMEZONE
BEGIN:VEVENT
SUMMARY:Фармовый вет Солнечный Шпиль
DTSTAMP:20201221T200908Z
SEQUENCE:2
UID:8644-1-afb15bc42254ad5fb0481ce5e9c8144d@forum.bandits-clan.ru
ORGANIZER;CN="LordMamon":web@bandits-clan.ru
DESCRIPTION:Предлагаю пофарми
	ть ветСС 2-3 раза\n20:0
	0 по МСК Мест
	о сбора: гильдхо
	лл\, канал Фарма
	овое испытание в Т
	С Требования:\nТабр
	ад...будь он неладе
	н ^_^\nЗнание всех ме
	ханик на свою рол
	ь\nДпс аттестац
	ия от 45к\nНал
	ичие ачивки
	 на персонаже
	 о прохождени
	и ветеранской
	 версии триал
	а\nМинимум для хи
	лов: иметь при с
	ебе минимум актуал
	ьных сетов (холо\, с
	пк/олорима\, симфо
	ния\, ворм\, сенти
	нель)\nМинимум для
	 танков: умение 
	мейнить и офать
	 на всех боссах\, 
	так же иметь мин
	имум актуальных 
	сетов (йолка\, алк
	ош\\торуг\, эбон) О
	бъяснений тактик 
	не будет! (назначим
	 томбы\, порталы\, о
	пределимся с МТ 
	и ОТ\, определ
	имся с сетами
	 и го!) ОТМЕТ
	ОК ЗА ПРОХО
	ЖДЕНИЕ НЕ БУДЕТ Решение о 
	составе группы остается за рейд лидером.
DTSTART:20201223T170000Z
ATTENDEE;CN="Harrin";CUTYPE=INDIVIDUAL;PARTSTAT=ACCEPTED:web
	@bandits-clan.ru
ATTENDEE;CN="LordMamon";CUTYPE=INDIVIDUAL;PARTSTAT=ACCEPTED:
	web@bandits-clan.ru
ATTENDEE;CN="Danzh";CUTYPE=INDIVIDUAL;PARTSTAT=ACCEPTED:web@
	bandits-clan.ru
ATTENDEE;CN="wentef";CUTYPE=INDIVIDUAL;PARTSTAT=ACCEPTED:web
	@bandits-clan.ru
ATTENDEE;CN="Weaver";CUTYPE=INDIVIDUAL;PARTSTAT=ACCEPTED:web
	@bandits-clan.ru
ATTENDEE;CN="Porschen";CUTYPE=INDIVIDUAL;PARTSTAT=ACCEPTED:w
	eb@bandits-clan.ru
ATTENDEE;CN="Дэйф";CUTYPE=INDIVIDUAL;PARTSTAT=ACCEPTED:w
	eb@bandits-clan.ru
ATTENDEE;CN="Thilse";CUTYPE=INDIVIDUAL;PARTSTAT=ACCEPTED:web
	@bandits-clan.ru
ATTENDEE;CN="jawluiz";CUTYPE=INDIVIDUAL;PARTSTAT=ACCEPTED:we
	b@bandits-clan.ru
END:VEVENT
END:VCALENDAR
