BEGIN:VCALENDAR
VERSION:2.0
PRODID:-//InvisionCommunity Events 4.7.14//EN
METHOD:PUBLISH
CALSCALE:GREGORIAN
REFRESH-INTERVAL:PT15M
X-PUBLISHED-TTL:PT15M
X-WR-CALNAME:The Elder Scrolls Online
NAME:The Elder Scrolls Online
BEGIN:VTIMEZONE
TZID:Europe/London
TZURL:http://tzurl.org/zoneinfo/Europe/London
X-LIC-LOCATION:Europe/London
BEGIN:DAYLIGHT
TZOFFSETFROM:+0000
TZOFFSETTO:+0100
TZNAME:BST
DTSTART:20200329T020000Z
RRULE:FREQ=YEARLY;BYMONTH=3;BYDAY=-1SU
END:DAYLIGHT
BEGIN:STANDARD
TZOFFSETFROM:+0100
TZOFFSETTO:+0000
TZNAME:GMT
DTSTART:20201025T020000Z
RRULE:FREQ=YEARLY;BYMONTH=10;BYDAY=-1SU
END:STANDARD
END:VTIMEZONE
BEGIN:VEVENT
SUMMARY:[TESO] ПВП-Рейд \"Bad Boys Bandits\"
DTSTAMP:20201221T195744Z
SEQUENCE:0
UID:8635-1-afb15bc42254ad5fb0481ce5e9c8144d@forum.bandits-clan.ru
ORGANIZER;CN="SociophobicCat":web@bandits-clan.ru
DESCRIPTION:  Готов 
	зажигать? 
	Присоединяй
	ся к рейду В
	ОЛКОВ! Мы буд
	ем играть небол
	ьшой группой ВОЛКО
	В и накажем всех\, к
	то встанет у нас н
	а пути! Если ты 
	- заядлый пвпшн
	ик\, и у тебя ес
	ть желание игр
	ать ВЕРФУЛЬФОМ или САППОР
	ТОМ то я жду тебя в тимспике\, ка
	нал \"Bad Boys Bandits\" Найди меня в игре - @S
	ociophobic-Cat\, в тимспике \"Bad Boys Bandits\" и в Ди
	скорде Bad Boys Bandits. Ссылка на Диско
	рд в теме на форуме: http://forum.bandits...sho
	wtopic=73280\nСоберем билд
	ы друг под друг
	а\, распределим т
	актику - и нагне
	м Имперский Гор
	од и Сиродил вместе! П.С.
	 ВСЕ БИЛДЫ в ДИСКОРДЕ\, ДОБАВЛЯЙТЕСЬ! http:/
	/forum.bandits...showtopic=73280\n0\n\n
DTSTART:20201222T160000Z
ATTENDEE;CN="SociophobicCat";CUTYPE=INDIVIDUAL;PARTSTAT=ACCE
	PTED:web@bandits-clan.ru
ATTENDEE;CN="Nivhooreel";CUTYPE=INDIVIDUAL;PARTSTAT=ACCEPTED
	:web@bandits-clan.ru
END:VEVENT
END:VCALENDAR
