BEGIN:VCALENDAR
VERSION:2.0
PRODID:-//InvisionCommunity Events 4.7.14//EN
METHOD:PUBLISH
CALSCALE:GREGORIAN
REFRESH-INTERVAL:PT15M
X-PUBLISHED-TTL:PT15M
X-WR-CALNAME:The Elder Scrolls Online
NAME:The Elder Scrolls Online
BEGIN:VTIMEZONE
TZID:Europe/London
TZURL:http://tzurl.org/zoneinfo/Europe/London
X-LIC-LOCATION:Europe/London
BEGIN:DAYLIGHT
TZOFFSETFROM:+0000
TZOFFSETTO:+0100
TZNAME:BST
DTSTART:20200329T020000Z
RRULE:FREQ=YEARLY;BYMONTH=3;BYDAY=-1SU
END:DAYLIGHT
BEGIN:STANDARD
TZOFFSETFROM:+0100
TZOFFSETTO:+0000
TZNAME:GMT
DTSTART:20201025T020000Z
RRULE:FREQ=YEARLY;BYMONTH=10;BYDAY=-1SU
END:STANDARD
END:VTIMEZONE
BEGIN:VEVENT
SUMMARY:[TESO] Учебный триал hmAA (Этериан
	ский архив)
DTSTAMP:20201217T184804Z
SEQUENCE:2
UID:8610-1-afb15bc42254ad5fb0481ce5e9c8144d@forum.bandits-clan.ru
ORGANIZER;CN="Ghost_77":web@bandits-clan.ru
DESCRIPTION:Обучающий в
	етеранский триал hmAA
	 (Этерианский архив)  
	 Начало события 19-00 по
	 МСК\nСбор начинается в 18-5
	0. Если вы записались\, 
	но не пришли до 19-0
	0\, ваше место мо
	жет занять любой желающий
	 из чата.   Требования:\n- Зва
	ние от Raider/Warrior и выше\n- Подт
	вержденный ДПС 30k+ для дд\
	n- Танк и хил аттестация ранга norma
	l\n- Табард гильдии\n- Team
	Speak\n- Отметка о 
	прохождении
	 ветеранской
	 версии триа
	ла с гильдией\
	n(Если вы не со
	ответствует
	е определенном
	у требованию\, н
	о уверены\, что
	 хорошо справи
	тесь со своей з
	адачей\, прос
	ьба связаться со м
	ной в игре или на форуме)  
	 Нам потребуются:\n- 2 танка
	\n- 2 хила\n- 8 дд (миниму
	м 4 рдд) !Пожалуйста 
	указывайте на каком дд в
	ы пойдете (например rdd
	 или mdd)! PS\nРеше
	ние о конечн
	ом составе 
	группы остае
	тся за рейд-л
	идером \nЗапись в
	 комментариях обя
	зательна (с указ
	анием роли и I
	D\, если он от
	личается от ф
	орумного)   П
	родолжительность соб
	ытия - не более 2 час
	ов (рейд закончит
	ся в 21-00 мск нез
	ависимо от тек
	ущего прогресса 
	(возможны исключени
	я)(и еще одна скобочка
	))\nСбор\, перекуры\, пе
	рекусы и т.д. такж
	е входят в указа
	нные 2 часа\, т
	ак что прошу
	 всех приходить вовремя и подготов
	ленными на все случаи жизни)
DTSTART:20201223T160000Z
ATTENDEE;CN="Ghost_77";CUTYPE=INDIVIDUAL;PARTSTAT=ACCEPTED:w
	eb@bandits-clan.ru
ATTENDEE;CN="MacabR_e";CUTYPE=INDIVIDUAL;PARTSTAT=ACCEPTED:w
	eb@bandits-clan.ru
ATTENDEE;CN="GUYKA";CUTYPE=INDIVIDUAL;PARTSTAT=ACCEPTED:web@
	bandits-clan.ru
ATTENDEE;CN="Ил Арион";CUTYPE=INDIVIDUAL;PARTSTAT=ACC
	EPTED:web@bandits-clan.ru
ATTENDEE;CN="Gym4ik";CUTYPE=INDIVIDUAL;PARTSTAT=ACCEPTED:web
	@bandits-clan.ru
ATTENDEE;CN="Anhert";CUTYPE=INDIVIDUAL;PARTSTAT=ACCEPTED:web
	@bandits-clan.ru
ATTENDEE;CN="NickKrem";CUTYPE=INDIVIDUAL;PARTSTAT=ACCEPTED:w
	eb@bandits-clan.ru
ATTENDEE;CN="Kuron";CUTYPE=INDIVIDUAL;PARTSTAT=ACCEPTED:web@
	bandits-clan.ru
ATTENDEE;CN="Sotona88";CUTYPE=INDIVIDUAL;PARTSTAT=ACCEPTED:w
	eb@bandits-clan.ru
ATTENDEE;CN="sinister2000";CUTYPE=INDIVIDUAL;PARTSTAT=ACCEPT
	ED:web@bandits-clan.ru
ATTENDEE;CN="CMDRAstion";CUTYPE=INDIVIDUAL;PARTSTAT=ACCEPTED
	:web@bandits-clan.ru
ATTENDEE;CN="octopus_d";CUTYPE=INDIVIDUAL;PARTSTAT=ACCEPTED:
	web@bandits-clan.ru
END:VEVENT
END:VCALENDAR
