BEGIN:VCALENDAR
VERSION:2.0
PRODID:-//InvisionCommunity Events 4.7.14//EN
METHOD:PUBLISH
CALSCALE:GREGORIAN
REFRESH-INTERVAL:PT15M
X-PUBLISHED-TTL:PT15M
X-WR-CALNAME:The Elder Scrolls Online
NAME:The Elder Scrolls Online
BEGIN:VTIMEZONE
TZID:Europe/London
TZURL:http://tzurl.org/zoneinfo/Europe/London
X-LIC-LOCATION:Europe/London
BEGIN:DAYLIGHT
TZOFFSETFROM:+0000
TZOFFSETTO:+0100
TZNAME:BST
DTSTART:20200329T020000Z
RRULE:FREQ=YEARLY;BYMONTH=3;BYDAY=-1SU
END:DAYLIGHT
BEGIN:STANDARD
TZOFFSETFROM:+0100
TZOFFSETTO:+0000
TZNAME:GMT
DTSTART:20201025T020000Z
RRULE:FREQ=YEARLY;BYMONTH=10;BYDAY=-1SU
END:STANDARD
END:VTIMEZONE
BEGIN:VEVENT
SUMMARY:Рейд статика Firefly
DTSTAMP:20201217T165920Z
SEQUENCE:0
UID:8609-1-afb15bc42254ad5fb0481ce5e9c8144d@forum.bandits-clan.ru
ORGANIZER;CN="Alex_Stamm":web@bandits-clan.ru
DESCRIPTION:ПРОШУ ВСЕХ ВСТУПИТЬ В ДИС
	КОРД СООБЩЕСТВА BANDITS: | https://discord.gg/
	C8GXHac | Найдите там ме
	ня\, напишите\, и
	 вас добавят в
	 закрытый ка
	нал статика. ЭТО ОБЯЗА
	ТЕЛЬНО! РОТАЦИЯ И ПРОЧИЕ ДЕТАЛИ — ТОЛЬК
	О В DISCORD!
DTSTART:20201217T173000Z
ATTENDEE;CN="Alex_Stamm";CUTYPE=INDIVIDUAL;PARTSTAT=ACCEPTED
	:web@bandits-clan.ru
END:VEVENT
END:VCALENDAR
