BEGIN:VCALENDAR
VERSION:2.0
PRODID:-//InvisionCommunity Events 4.7.14//EN
METHOD:PUBLISH
CALSCALE:GREGORIAN
REFRESH-INTERVAL:PT15M
X-PUBLISHED-TTL:PT15M
X-WR-CALNAME:The Elder Scrolls Online
NAME:The Elder Scrolls Online
BEGIN:VTIMEZONE
TZID:Europe/London
TZURL:http://tzurl.org/zoneinfo/Europe/London
X-LIC-LOCATION:Europe/London
BEGIN:DAYLIGHT
TZOFFSETFROM:+0000
TZOFFSETTO:+0100
TZNAME:BST
DTSTART:20200329T020000Z
RRULE:FREQ=YEARLY;BYMONTH=3;BYDAY=-1SU
END:DAYLIGHT
BEGIN:STANDARD
TZOFFSETFROM:+0100
TZOFFSETTO:+0000
TZNAME:GMT
DTSTART:20201025T020000Z
RRULE:FREQ=YEARLY;BYMONTH=10;BYDAY=-1SU
END:STANDARD
END:VTIMEZONE
BEGIN:VEVENT
SUMMARY:[TESO] Учебный рейд ветеранская Э
	гида Кин
DTSTAMP:20201217T012349Z
SEQUENCE:2
UID:8605-1-afb15bc42254ad5fb0481ce5e9c8144d@forum.bandits-clan.ru
ORGANIZER;CN="MrGlaideR":web@bandits-clan.ru
DESCRIPTION:   \nВ 19:00 п
	о московскому вр
	емени Приглашаю 
	всех желающих в зв
	ании Bandit+ пройти ветера
	нскую версию испытан
	ия \"Эгида Кин\" (vKA
	) (требуется допол
	нение Греймур)\nПриори
	тет по званию. Состав:2 тан
	ка\n2 хилера\n8 ДД\n\nТребов
	ания:Звание Bandit+\;\nНалич
	ие отметки об аттестац
	ии (для ДД 35.000 и выше\, для 
	танков и хилов аттес
	тация ранга veteran\, п
	риоритет танко
	в и хилов будет
	 по аттестации)\;
	\nНаличие отме
	тки о прохожд
	ении нормал вер
	сии триала\;\n
	Распределение ЧП сог
	ласно гайду\;\nНаличие гильдейского та
	барда Daggerfall/Vanguard/Rising Bandits\;\nНал
	ичие микрофона\;\n\nД
	ля участия нажима
	йте справа на кнопк
	у \"Пойду\"\, а в комме
	нтарии внизу пиши
	те свою роль и игро
	вой ID.\nСбор в Ти
	мспике (канал Исп
	ытания - Учебное и
	спытание) и гильд
	холле за 10 мину
	т до начала соб
	ытия. \nРешение
	 о составе гр
	уппы остаетс
	я за рейд ли
	дером.\nВ с
	лучае ус
	пешного прохож
	дения испытания всем участникам будут 
	выставлены отметки.
DTSTART:20201228T160000Z
ATTENDEE;CN="MrGlaideR";CUTYPE=INDIVIDUAL;PARTSTAT=ACCEPTED:
	web@bandits-clan.ru
ATTENDEE;CN="AQuaBonAQua";CUTYPE=INDIVIDUAL;PARTSTAT=ACCEPTE
	D:web@bandits-clan.ru
ATTENDEE;CN="F4N7";CUTYPE=INDIVIDUAL;PARTSTAT=ACCEPTED:web@b
	andits-clan.ru
ATTENDEE;CN="Sotona88";CUTYPE=INDIVIDUAL;PARTSTAT=ACCEPTED:w
	eb@bandits-clan.ru
ATTENDEE;CN="Ил Арион";CUTYPE=INDIVIDUAL;PARTSTAT=ACC
	EPTED:web@bandits-clan.ru
ATTENDEE;CN="NickKrem";CUTYPE=INDIVIDUAL;PARTSTAT=ACCEPTED:w
	eb@bandits-clan.ru
ATTENDEE;CN="Yurets_91";CUTYPE=INDIVIDUAL;PARTSTAT=ACCEPTED:
	web@bandits-clan.ru
ATTENDEE;CN="DrDealer";CUTYPE=INDIVIDUAL;PARTSTAT=ACCEPTED:w
	eb@bandits-clan.ru
ATTENDEE;CN="sinister2000";CUTYPE=INDIVIDUAL;PARTSTAT=ACCEPT
	ED:web@bandits-clan.ru
ATTENDEE;CN="Lisbrainy";CUTYPE=INDIVIDUAL;PARTSTAT=ACCEPTED:
	web@bandits-clan.ru
ATTENDEE;CN="Дэйф";CUTYPE=INDIVIDUAL;PARTSTAT=ACCEPTED:w
	eb@bandits-clan.ru
ATTENDEE;CN="TimeSoul";CUTYPE=INDIVIDUAL;PARTSTAT=ACCEPTED:w
	eb@bandits-clan.ru
ATTENDEE;CN="jawluiz";CUTYPE=INDIVIDUAL;PARTSTAT=ACCEPTED:we
	b@bandits-clan.ru
ATTENDEE;CN="Demirurg";CUTYPE=INDIVIDUAL;PARTSTAT=ACCEPTED:w
	eb@bandits-clan.ru
ATTENDEE;CN="BulyGold";CUTYPE=INDIVIDUAL;PARTSTAT=ACCEPTED:w
	eb@bandits-clan.ru
END:VEVENT
END:VCALENDAR
