BEGIN:VCALENDAR
VERSION:2.0
PRODID:-//InvisionCommunity Events 4.7.14//EN
METHOD:PUBLISH
CALSCALE:GREGORIAN
REFRESH-INTERVAL:PT15M
X-PUBLISHED-TTL:PT15M
X-WR-CALNAME:The Elder Scrolls Online
NAME:The Elder Scrolls Online
BEGIN:VTIMEZONE
TZID:Europe/London
TZURL:http://tzurl.org/zoneinfo/Europe/London
X-LIC-LOCATION:Europe/London
BEGIN:DAYLIGHT
TZOFFSETFROM:+0000
TZOFFSETTO:+0100
TZNAME:BST
DTSTART:20200329T020000Z
RRULE:FREQ=YEARLY;BYMONTH=3;BYDAY=-1SU
END:DAYLIGHT
BEGIN:STANDARD
TZOFFSETFROM:+0100
TZOFFSETTO:+0000
TZNAME:GMT
DTSTART:20201025T020000Z
RRULE:FREQ=YEARLY;BYMONTH=10;BYDAY=-1SU
END:STANDARD
END:VTIMEZONE
BEGIN:VEVENT
SUMMARY:[TESO] Учебный рейд ветеранский С
	олнечный Шпиль
DTSTAMP:20201209T222220Z
SEQUENCE:2
UID:8565-1-afb15bc42254ad5fb0481ce5e9c8144d@forum.bandits-clan.ru
ORGANIZER;CN="MrGlaideR":web@bandits-clan.ru
DESCRIPTION:   \nВ 19:00 п
	о московскому вр
	емени Приглашаю 
	всех желающих в зв
	ании Bandit+ пройти вете
	ранскую версию исп
	ытания \"Солнечный Ш
	пиль\" (vSS) (требуется 
	дополнение Эльсвейр)
	 Состав:2 танка\n2 хилера\n8 
	ДД\n\nТребования:Звание B
	andit+\;\nНаличие отметки об 
	аттестации (для ДД 35.00
	0 и выше\, для танков и
	 хилов аттестация р
	анга normal\, приорите
	т танков и хило
	в будет по атт
	естации)\;\nНали
	чие отметки о прохожд
	ении нормал версии триала\
	;\nНаличие аддона HowToSunspi
	re\;\nРаспределение 
	ЧП согласно гайду\;\nНаличие гиль
	дейского табарда Daggerfall/Vanguard/Rising
	 Bandits\;\nНаличие микро
	фона\;\n\nДля участия
	 нажимайте справа 
	на кнопку \"Пойду\"\,
	 а в комментарии вн
	изу пишите свою рол
	ь и игровой ID.\nСбо
	р в Тимспике (кан
	ал Испытания - У
	чебное испытание)
	 и гильдхолле за 
	10 минут до нача
	ла события. \nР
	ешение о сост
	аве группы о
	стается за р
	ейд лидером
	.\nВ случае
	 успешног
	о прохождения испытания вс
	ем участникам будут выставлены отметки.
DTSTART:20201211T160000Z
ATTENDEE;CN="KateSnow";CUTYPE=INDIVIDUAL;PARTSTAT=ACCEPTED:w
	eb@bandits-clan.ru
ATTENDEE;CN="Ил Арион";CUTYPE=INDIVIDUAL;PARTSTAT=ACC
	EPTED:web@bandits-clan.ru
ATTENDEE;CN="MrGlaideR";CUTYPE=INDIVIDUAL;PARTSTAT=ACCEPTED:
	web@bandits-clan.ru
ATTENDEE;CN="AQuaBonAQua";CUTYPE=INDIVIDUAL;PARTSTAT=ACCEPTE
	D:web@bandits-clan.ru
ATTENDEE;CN="DrDealer";CUTYPE=INDIVIDUAL;PARTSTAT=ACCEPTED:w
	eb@bandits-clan.ru
ATTENDEE;CN="Kapitul";CUTYPE=INDIVIDUAL;PARTSTAT=ACCEPTED:we
	b@bandits-clan.ru
ATTENDEE;CN="BulyGold";CUTYPE=INDIVIDUAL;PARTSTAT=ACCEPTED:w
	eb@bandits-clan.ru
ATTENDEE;CN="Helenar";CUTYPE=INDIVIDUAL;PARTSTAT=ACCEPTED:we
	b@bandits-clan.ru
ATTENDEE;CN="RoxanaReger";CUTYPE=INDIVIDUAL;PARTSTAT=ACCEPTE
	D:web@bandits-clan.ru
ATTENDEE;CN="TimeSoul";CUTYPE=INDIVIDUAL;PARTSTAT=ACCEPTED:w
	eb@bandits-clan.ru
ATTENDEE;CN="Sotona88";CUTYPE=INDIVIDUAL;PARTSTAT=ACCEPTED:w
	eb@bandits-clan.ru
END:VEVENT
END:VCALENDAR
