BEGIN:VCALENDAR
VERSION:2.0
PRODID:-//InvisionCommunity Events 4.7.14//EN
METHOD:PUBLISH
CALSCALE:GREGORIAN
REFRESH-INTERVAL:PT15M
X-PUBLISHED-TTL:PT15M
X-WR-CALNAME:The Elder Scrolls Online
NAME:The Elder Scrolls Online
BEGIN:VTIMEZONE
TZID:Europe/London
TZURL:http://tzurl.org/zoneinfo/Europe/London
X-LIC-LOCATION:Europe/London
BEGIN:DAYLIGHT
TZOFFSETFROM:+0000
TZOFFSETTO:+0100
TZNAME:BST
DTSTART:20200329T020000Z
RRULE:FREQ=YEARLY;BYMONTH=3;BYDAY=-1SU
END:DAYLIGHT
BEGIN:STANDARD
TZOFFSETFROM:+0100
TZOFFSETTO:+0000
TZNAME:GMT
DTSTART:20201025T020000Z
RRULE:FREQ=YEARLY;BYMONTH=10;BYDAY=-1SU
END:STANDARD
END:VTIMEZONE
BEGIN:VEVENT
SUMMARY:Событие: ( TESO ) Фармовое Испытание
	 nCR+0
DTSTAMP:20201207T123851Z
SEQUENCE:0
UID:8559-1-afb15bc42254ad5fb0481ce5e9c8144d@forum.bandits-clan.ru
ORGANIZER;CN="AleshaMad":web@bandits-clan.ru
DESCRIPTION:\nВ 19.00 по мос
	ковскому време
	ни\nПриглашаю всех
	 желающих пофармить ве
	щи из испытания nCR+0 ( Нормал 
	Клаудрест +0 )\nНеобходимо :\n160 ОГ\
	n1 Танка\n2 Хиллер\n8 ДД ( 2
	6+ дпс )\nТабард\nТимспик ( Фарм
	овое Испытание )\nСбор в Гильд Холле
DTSTART:20201209T160000Z
ATTENDEE;CN="Alzim";CUTYPE=INDIVIDUAL;PARTSTAT=ACCEPTED:web@
	bandits-clan.ru
END:VEVENT
END:VCALENDAR
