BEGIN:VCALENDAR
VERSION:2.0
PRODID:-//InvisionCommunity Events 4.7.14//EN
METHOD:PUBLISH
CALSCALE:GREGORIAN
REFRESH-INTERVAL:PT15M
X-PUBLISHED-TTL:PT15M
X-WR-CALNAME:The Elder Scrolls Online
NAME:The Elder Scrolls Online
BEGIN:VTIMEZONE
TZID:Europe/London
TZURL:http://tzurl.org/zoneinfo/Europe/London
X-LIC-LOCATION:Europe/London
BEGIN:DAYLIGHT
TZOFFSETFROM:+0000
TZOFFSETTO:+0100
TZNAME:BST
DTSTART:20200329T020000Z
RRULE:FREQ=YEARLY;BYMONTH=3;BYDAY=-1SU
END:DAYLIGHT
BEGIN:STANDARD
TZOFFSETFROM:+0100
TZOFFSETTO:+0000
TZNAME:GMT
DTSTART:20201025T020000Z
RRULE:FREQ=YEARLY;BYMONTH=10;BYDAY=-1SU
END:STANDARD
END:VTIMEZONE
BEGIN:VEVENT
SUMMARY:[TESO] Фармовое нормал испытание Со
	лнечный шпиль
DTSTAMP:20201204T211204Z
SEQUENCE:0
UID:8536-1-afb15bc42254ad5fb0481ce5e9c8144d@forum.bandits-clan.ru
ORGANIZER;CN="Sinbann":web@bandits-clan.ru
DESCRIPTION: В 18:00 по МСК при
	глашаю всех жела
	ющих от 160 ОГ про
	йти нормал верс
	ию испытания \"Солне
	чный шпиль\" для сбора 
	сетов: - Йолнакрин\
	;\n- Ложный бог\;\
	n- Локкестиз. Для у
	спешного прохождения нам
	 потребуются: 1-2 танка\,
	 1 хил\, 8-9 ДД. Для уча
	стия необходимо
	 нажать кнопку \"По
	йду\" справа по курс
	у и написать свой
	 игровой ID и роль 
	ниже.\nНовичкам
	 в покорении три
	алов тоже буду 
	рада\, всё ра
	сскажу и пок
	ажу. Внимание
	\, требуется 
	глава Эльсв
	ейр. Дресскод 
	парадный (таба
	рд) со всем н
	еобходимым (ремкомпл
	екты\, камни душ). Об
	язательно присутстви
	е в Teamspeak канал Фа
	рмовое испытание
	.\nСбор в гильдхолле (Больш
	ое топальское убежище\, 
	тп на @Kibert) за 15 мин
	ут до начала триала. Желательно н
	аличие аддонов:\nCode Combat Alert\nRaid Notifier\nBandit U
	ser Interface Не учебное испытание\, отметк
	и ставиться не будут
DTSTART:20201206T150000Z
ATTENDEE;CN="Sinbann";CUTYPE=INDIVIDUAL;PARTSTAT=ACCEPTED:we
	b@bandits-clan.ru
ATTENDEE;CN="Nivhooreel";CUTYPE=INDIVIDUAL;PARTSTAT=ACCEPTED
	:web@bandits-clan.ru
ATTENDEE;CN="Dushman";CUTYPE=INDIVIDUAL;PARTSTAT=ACCEPTED:we
	b@bandits-clan.ru
ATTENDEE;CN="Selena2105";CUTYPE=INDIVIDUAL;PARTSTAT=ACCEPTED
	:web@bandits-clan.ru
ATTENDEE;CN="Alliya518";CUTYPE=INDIVIDUAL;PARTSTAT=ACCEPTED:
	web@bandits-clan.ru
ATTENDEE;CN="Mcnaiv";CUTYPE=INDIVIDUAL;PARTSTAT=ACCEPTED:web
	@bandits-clan.ru
ATTENDEE;CN="vadims55";CUTYPE=INDIVIDUAL;PARTSTAT=ACCEPTED:w
	eb@bandits-clan.ru
ATTENDEE;CN="RoxanaReger";CUTYPE=INDIVIDUAL;PARTSTAT=ACCEPTE
	D:web@bandits-clan.ru
ATTENDEE;CN="BulyGold";CUTYPE=INDIVIDUAL;PARTSTAT=ACCEPTED:w
	eb@bandits-clan.ru
END:VEVENT
END:VCALENDAR
