BEGIN:VCALENDAR
VERSION:2.0
PRODID:-//InvisionCommunity Events 4.7.14//EN
METHOD:PUBLISH
CALSCALE:GREGORIAN
REFRESH-INTERVAL:PT15M
X-PUBLISHED-TTL:PT15M
X-WR-CALNAME:The Elder Scrolls Online
NAME:The Elder Scrolls Online
BEGIN:VTIMEZONE
TZID:Europe/London
TZURL:http://tzurl.org/zoneinfo/Europe/London
X-LIC-LOCATION:Europe/London
BEGIN:DAYLIGHT
TZOFFSETFROM:+0000
TZOFFSETTO:+0100
TZNAME:BST
DTSTART:20200329T020000Z
RRULE:FREQ=YEARLY;BYMONTH=3;BYDAY=-1SU
END:DAYLIGHT
BEGIN:STANDARD
TZOFFSETFROM:+0100
TZOFFSETTO:+0000
TZNAME:GMT
DTSTART:20201025T020000Z
RRULE:FREQ=YEARLY;BYMONTH=10;BYDAY=-1SU
END:STANDARD
END:VTIMEZONE
BEGIN:VEVENT
SUMMARY:[TESO] ПВП-Рейд \"Bad Boys Bandits\"
DTSTAMP:20201130T094123Z
SEQUENCE:0
UID:8513-1-afb15bc42254ad5fb0481ce5e9c8144d@forum.bandits-clan.ru
ORGANIZER;CN="SociophobicCat":web@bandits-clan.ru
DESCRIPTION: Готов з
	ажигать? П
	рисоединяйс
	я к рейду ВОЛ
	КОВ! Мы будем
	 играть небольш
	ой группой ВОЛКОВ 
	и накажем всех\, кто
	 встанет у нас на п
	ути! Если ты - з
	аядлый пвпшник
	\, и у тебя есть 
	желание играть 
	ВЕРФУЛЬФОМ или САППОРТОМ то 
	я жду тебя в тимспике\, канал \"Bad B
	oys Bandits\" Найди меня в игре - @Sociophobic-Cat
	\, в тимспике \"Bad Boys Bandits\" и в Дискорде 
	Bad Boys Bandits. Ссылка на Дискорд в теме на 
	форуме: http://forum.bandits...showtopic=73280
	\nСоберем билды 
	друг под друга\
	, распределим та
	ктику - и нагнем
	 Имперский Горо
	д и Сиродил вместе! П.С. В
	СЕ БИЛДЫ в ДИСКОРДЕ\, ДОБАВЛЯЙТЕСЬ! http://fo
	rum.bandits...showtopic=73280
DTSTART:20201206T170000Z
ATTENDEE;CN="SociophobicCat";CUTYPE=INDIVIDUAL;PARTSTAT=ACCE
	PTED:web@bandits-clan.ru
ATTENDEE;CN="Porschen";CUTYPE=INDIVIDUAL;PARTSTAT=ACCEPTED:w
	eb@bandits-clan.ru
END:VEVENT
END:VCALENDAR
