BEGIN:VCALENDAR
VERSION:2.0
PRODID:-//InvisionCommunity Events 4.7.14//EN
METHOD:PUBLISH
CALSCALE:GREGORIAN
REFRESH-INTERVAL:PT15M
X-PUBLISHED-TTL:PT15M
X-WR-CALNAME:The Elder Scrolls Online
NAME:The Elder Scrolls Online
BEGIN:VTIMEZONE
TZID:Europe/London
TZURL:http://tzurl.org/zoneinfo/Europe/London
X-LIC-LOCATION:Europe/London
BEGIN:DAYLIGHT
TZOFFSETFROM:+0000
TZOFFSETTO:+0100
TZNAME:BST
DTSTART:20200329T020000Z
RRULE:FREQ=YEARLY;BYMONTH=3;BYDAY=-1SU
END:DAYLIGHT
BEGIN:STANDARD
TZOFFSETFROM:+0100
TZOFFSETTO:+0000
TZNAME:GMT
DTSTART:20201025T020000Z
RRULE:FREQ=YEARLY;BYMONTH=10;BYDAY=-1SU
END:STANDARD
END:VTIMEZONE
BEGIN:VEVENT
SUMMARY:[TESO] Учебный вет. Изоляцион
	ный Санктуарий +1
DTSTAMP:20201129T173224Z
SEQUENCE:2
UID:8467-1-afb15bc42254ad5fb0481ce5e9c8144d@forum.bandits-clan.ru
ORGANIZER;CN="MrGlaideR":web@bandits-clan.ru
DESCRIPTION: \nВ 15:00 по м
	осковскому времени При
	глашаю всех желающих в з
	вании Veteran Bandit+ пр
	ойти ветеранск
	ую версию испытания \"И
	золяционный Санктуар
	ий\" +1 с зелёным (vAS+1
	) (требуется дополне
	ние Заводной город) Со
	став:2 танка\n2 хилера\n8 ДД 
	(приоритет рДД)\n\nТребования:
	Звание Veteran Bandit+\;\nНаличие о
	тметки об аттестации 
	(для ДД 35.000 и выше\, для та
	нков и хилов аттестац
	ия ранга veteran\, прио
	ритет танков и
	 хилов будет п
	о аттестации)\
	;\nНаличие отметк
	и о прохождении ветеранс
	кой версии триала +0\;\nНаличие аддонов Code'
	s Combat Alerts\, Asylum Tracker\, Asylum Sanctorium Status Panel\, Asylum
	 Priority Target\;\nРаспреде
	ление ЧП согласно гайду\;\nН
	аличие гильдейского табарда Daggerfall/Van
	guard/Rising Bandits\;\nНаличие ми
	крофона\;\n\nДля учас
	тия нажимайте спр
	ава на кнопку \"По
	йду\"\, а в комментар
	ии внизу пишите св
	ою роль и игровой 
	ID.\nСбор в Тимспи
	ке (канал Испытан
	ия - Учебное испыт
	ание) и гильдхолл
	е за 10 минут до 
	начала события.
	 \nРешение о со
	ставе группы
	 остается за 
	рейд лидеро
	м.\nВ случа
	е успешн
	ого прохождения испыта
	ния всем участникам будут выставлен
	ы отметки.
DTSTART:20201206T120000Z
ATTENDEE;CN="MrGlaideR";CUTYPE=INDIVIDUAL;PARTSTAT=ACCEPTED:
	web@bandits-clan.ru
ATTENDEE;CN="Ил Арион";CUTYPE=INDIVIDUAL;PARTSTAT=ACC
	EPTED:web@bandits-clan.ru
ATTENDEE;CN="genialBalu";CUTYPE=INDIVIDUAL;PARTSTAT=ACCEPTED
	:web@bandits-clan.ru
ATTENDEE;CN="KateSnow";CUTYPE=INDIVIDUAL;PARTSTAT=ACCEPTED:w
	eb@bandits-clan.ru
ATTENDEE;CN="Aleksnow";CUTYPE=INDIVIDUAL;PARTSTAT=ACCEPTED:w
	eb@bandits-clan.ru
ATTENDEE;CN="F4N7";CUTYPE=INDIVIDUAL;PARTSTAT=ACCEPTED:web@b
	andits-clan.ru
ATTENDEE;CN="Kirill_Official";CUTYPE=INDIVIDUAL;PARTSTAT=ACC
	EPTED:web@bandits-clan.ru
ATTENDEE;CN="crockez";CUTYPE=INDIVIDUAL;PARTSTAT=ACCEPTED:we
	b@bandits-clan.ru
ATTENDEE;CN="Flightc";CUTYPE=INDIVIDUAL;PARTSTAT=ACCEPTED:we
	b@bandits-clan.ru
END:VEVENT
END:VCALENDAR
