BEGIN:VCALENDAR
VERSION:2.0
PRODID:-//InvisionCommunity Events 4.7.14//EN
METHOD:PUBLISH
CALSCALE:GREGORIAN
REFRESH-INTERVAL:PT15M
X-PUBLISHED-TTL:PT15M
X-WR-CALNAME:The Elder Scrolls Online
NAME:The Elder Scrolls Online
BEGIN:VTIMEZONE
TZID:Europe/London
TZURL:http://tzurl.org/zoneinfo/Europe/London
X-LIC-LOCATION:Europe/London
BEGIN:DAYLIGHT
TZOFFSETFROM:+0000
TZOFFSETTO:+0100
TZNAME:BST
DTSTART:20200329T020000Z
RRULE:FREQ=YEARLY;BYMONTH=3;BYDAY=-1SU
END:DAYLIGHT
BEGIN:STANDARD
TZOFFSETFROM:+0100
TZOFFSETTO:+0000
TZNAME:GMT
DTSTART:20201025T020000Z
RRULE:FREQ=YEARLY;BYMONTH=10;BYDAY=-1SU
END:STANDARD
END:VTIMEZONE
BEGIN:VEVENT
SUMMARY:[TESO] Учебное испытание ветеран
	ский Клаудрест
DTSTAMP:20201129T171715Z
SEQUENCE:2
UID:8464-1-afb15bc42254ad5fb0481ce5e9c8144d@forum.bandits-clan.ru
ORGANIZER;CN="MrGlaideR":web@bandits-clan.ru
DESCRIPTION: \nВ 19:00 по м
	осковскому врем
	ени Приглашаю вс
	ех желающих в зван
	ии Bandit+ пройти ветеран
	скую версию испыта
	ния \"Клаудрест\" (vCR
	) (требуется дополнен
	ие Саммерсет) Состав:2 танк
	а\n2 хилера\n8 ДД\n\nТребова
	ния:Звание Bandit+\;\nНаличие
	 отметки об аттестации
	 (для ДД 30.000 и выше\, для т
	анков и хилов аттест
	ация ранга normal\, пр
	иоритет танков
	 и хилов будет 
	по аттестации)\;
	\nНаличие отметки
	 о прохождении нормал версии тр
	иала\;\nНаличие аддона Code's Com
	bat Alerts\;\nРаспредел
	ение ЧП согласно гайду\;\nНал
	ичие гильдейского табарда Daggerfall/Vangu
	ard/Rising Bandits\;\nНаличие мик
	рофона\;\n\nДля участ
	ия нажимайте спра
	ва на кнопку \"Пойд
	у\"\, а в комментарии
	 внизу пишите свою р
	оль и игровой ID.\n
	Сбор в Тимспике (
	канал Испытания 
	- Учебное испытан
	ие) и гильдхолле 
	за 10 минут до н
	ачала события. \nПр
	актикуемся\, форм
	ируем навыки для 
	заходов в vCR+1 в
	 ближайшем буд
	ущем. Решение
	 о составе гр
	уппы остаетс
	я за рейд ли
	дером.\nВ с
	лучае ус
	пешного прохож
	дения испытания всем участникам будут 
	выставлены отметки.
DTSTART:20201202T160000Z
ATTENDEE;CN="MrGlaideR";CUTYPE=INDIVIDUAL;PARTSTAT=ACCEPTED:
	web@bandits-clan.ru
ATTENDEE;CN="Helenar";CUTYPE=INDIVIDUAL;PARTSTAT=ACCEPTED:we
	b@bandits-clan.ru
ATTENDEE;CN="Fumko";CUTYPE=INDIVIDUAL;PARTSTAT=ACCEPTED:web@
	bandits-clan.ru
ATTENDEE;CN="#ifndef";CUTYPE=INDIVIDUAL;PARTSTAT=ACCEPTED:we
	b@bandits-clan.ru
ATTENDEE;CN="Ил Арион";CUTYPE=INDIVIDUAL;PARTSTAT=ACC
	EPTED:web@bandits-clan.ru
ATTENDEE;CN="Geluriel";CUTYPE=INDIVIDUAL;PARTSTAT=ACCEPTED:w
	eb@bandits-clan.ru
ATTENDEE;CN="KateSnow";CUTYPE=INDIVIDUAL;PARTSTAT=ACCEPTED:w
	eb@bandits-clan.ru
ATTENDEE;CN="Ttog";CUTYPE=INDIVIDUAL;PARTSTAT=ACCEPTED:web@b
	andits-clan.ru
ATTENDEE;CN="Gym4ik";CUTYPE=INDIVIDUAL;PARTSTAT=ACCEPTED:web
	@bandits-clan.ru
ATTENDEE;CN="Kapitul";CUTYPE=INDIVIDUAL;PARTSTAT=ACCEPTED:we
	b@bandits-clan.ru
ATTENDEE;CN="Goodskill";CUTYPE=INDIVIDUAL;PARTSTAT=ACCEPTED:
	web@bandits-clan.ru
ATTENDEE;CN="AQuaBonAQua";CUTYPE=INDIVIDUAL;PARTSTAT=ACCEPTE
	D:web@bandits-clan.ru
ATTENDEE;CN="F4N7";CUTYPE=INDIVIDUAL;PARTSTAT=ACCEPTED:web@b
	andits-clan.ru
ATTENDEE;CN="BulyGold";CUTYPE=INDIVIDUAL;PARTSTAT=ACCEPTED:w
	eb@bandits-clan.ru
ATTENDEE;CN="SatanDieHard";CUTYPE=INDIVIDUAL;PARTSTAT=ACCEPT
	ED:web@bandits-clan.ru
ATTENDEE;CN="betepspb";CUTYPE=INDIVIDUAL;PARTSTAT=ACCEPTED:w
	eb@bandits-clan.ru
END:VEVENT
END:VCALENDAR
