BEGIN:VCALENDAR
VERSION:2.0
PRODID:-//InvisionCommunity Events 4.7.14//EN
METHOD:PUBLISH
CALSCALE:GREGORIAN
REFRESH-INTERVAL:PT15M
X-PUBLISHED-TTL:PT15M
X-WR-CALNAME:The Elder Scrolls Online
NAME:The Elder Scrolls Online
BEGIN:VTIMEZONE
TZID:Europe/London
TZURL:http://tzurl.org/zoneinfo/Europe/London
X-LIC-LOCATION:Europe/London
BEGIN:DAYLIGHT
TZOFFSETFROM:+0000
TZOFFSETTO:+0100
TZNAME:BST
DTSTART:20200329T020000Z
RRULE:FREQ=YEARLY;BYMONTH=3;BYDAY=-1SU
END:DAYLIGHT
BEGIN:STANDARD
TZOFFSETFROM:+0100
TZOFFSETTO:+0000
TZNAME:GMT
DTSTART:20201025T020000Z
RRULE:FREQ=YEARLY;BYMONTH=10;BYDAY=-1SU
END:STANDARD
END:VTIMEZONE
BEGIN:VEVENT
SUMMARY:[TESO] Мировые Боссы
DTSTAMP:20201129T145139Z
SEQUENCE:0
UID:8463-1-afb15bc42254ad5fb0481ce5e9c8144d@forum.bandits-clan.ru
ORGANIZER;CN="Timbra":web@bandits-clan.ru
DESCRIPTION:\n20:00 по Мск Пр
	иглашаю всех
	 желающих 0+ уро
	вень на увлека
	тельное путеше
	ствие по Мировым
	 боссам!  \nКуда
	 пойдем? Реш
	им голосован
	ием в ТимСпи
	к (Также пр
	едлагайте
	 в коммента
	риях под пост
	ом)! Программ
	а события:Ежед
	невные задани
	я на боссов\, а 
	также убийств
	о боссов в люб
	ом регионе Там
	риеля\, по-же
	ланию группы\
	nЗакроем Дол
	ьмены/Гейзе
	ры/Бури\nСобе
	рем скайшар
	ды и книжки\n
	Соберем нек
	оторые Дости
	жения\, немног
	о прокачаемся\
	, подзаработаем золо
	то и хорошо повеселимся
	!\n\nГлавные требования:T
	eamSpeak. Канал Мировы
	е Боссы.\nТабард г
	ильдии бандитов (мо
	жно купить в магазин
	е гильдии за 2000 зол.)\nЛюбой уровень\, л
	юбая экипировка\n
DTSTART:20201129T170000Z
END:VEVENT
END:VCALENDAR
