BEGIN:VCALENDAR
VERSION:2.0
PRODID:-//InvisionCommunity Events 4.7.14//EN
METHOD:PUBLISH
CALSCALE:GREGORIAN
REFRESH-INTERVAL:PT15M
X-PUBLISHED-TTL:PT15M
X-WR-CALNAME:The Elder Scrolls Online
NAME:The Elder Scrolls Online
BEGIN:VTIMEZONE
TZID:Europe/London
TZURL:http://tzurl.org/zoneinfo/Europe/London
X-LIC-LOCATION:Europe/London
BEGIN:DAYLIGHT
TZOFFSETFROM:+0000
TZOFFSETTO:+0100
TZNAME:BST
DTSTART:20200329T020000Z
RRULE:FREQ=YEARLY;BYMONTH=3;BYDAY=-1SU
END:DAYLIGHT
BEGIN:STANDARD
TZOFFSETFROM:+0100
TZOFFSETTO:+0000
TZNAME:GMT
DTSTART:20201025T020000Z
RRULE:FREQ=YEARLY;BYMONTH=10;BYDAY=-1SU
END:STANDARD
END:VTIMEZONE
BEGIN:VEVENT
SUMMARY:[TESO] Учебное испытание Залы Фабри
	кации (нормал)
DTSTAMP:20201111T202559Z
SEQUENCE:2
UID:8384-1-afb15bc42254ad5fb0481ce5e9c8144d@forum.bandits-clan.ru
ORGANIZER;CN="Skybae":web@bandits-clan.ru
DESCRIPTION:В 21.00 по МСК При
	глашаю всех желающих от
	 160 ОГ пройти испытание 
	\"Залы Фабрикации\" (n
	Hof). Особенно есл
	и это ваш первы
	й триал\, запи
	сывайтесь! 
	Для похода в д
	анный триал у вас
	 должно быть дополнени
	е Морровинд Нужно: 12 че
	ловек\, 2 танк\, 2 хилера\
	, остальные - любые 
	дд. Сбор в ТС\, к
	анал - учебный 
	триал. Место вс
	тречи изменить нельз
	я (гильдхолл)\, дресс
	код - парадный(таб
	арды)\, за 15 мин
	ут до начала собы
	тия. Для участия 
	нажимайте справа 
	на кнопку \"Пойду\"\,
	 а в комментарии вн
	изу пишите свою рол
	ь и игровой ID. P.S аддоны которые 
	нужны для триалов: Code Combat Alert\nRaid Notifier\nBandi
	t User Interface если вы не
	 знаете что так
	ое аддоны или н
	е успели их пост
	авить\, то для 
	нормал верси
	и это не крити
	чно\, но обя
	зательно постав
	ьте их если соберетесь идти на ветера
	нскую версию триала
DTSTART:20201118T180000Z
ATTENDEE;CN="LivsiMD";CUTYPE=INDIVIDUAL;PARTSTAT=ACCEPTED:we
	b@bandits-clan.ru
ATTENDEE;CN="Alliya518";CUTYPE=INDIVIDUAL;PARTSTAT=ACCEPTED:
	web@bandits-clan.ru
ATTENDEE;CN="F4N7";CUTYPE=INDIVIDUAL;PARTSTAT=ACCEPTED:web@b
	andits-clan.ru
ATTENDEE;CN="Risad";CUTYPE=INDIVIDUAL;PARTSTAT=ACCEPTED:web@
	bandits-clan.ru
ATTENDEE;CN="mylordandru";CUTYPE=INDIVIDUAL;PARTSTAT=ACCEPTE
	D:web@bandits-clan.ru
ATTENDEE;CN="Nivhooreel";CUTYPE=INDIVIDUAL;PARTSTAT=ACCEPTED
	:web@bandits-clan.ru
ATTENDEE;CN="Razfallo";CUTYPE=INDIVIDUAL;PARTSTAT=ACCEPTED:w
	eb@bandits-clan.ru
ATTENDEE;CN="Китана";CUTYPE=INDIVIDUAL;PARTSTAT=ACCEPT
	ED:web@bandits-clan.ru
ATTENDEE;CN="MadMaximus";CUTYPE=INDIVIDUAL;PARTSTAT=ACCEPTED
	:web@bandits-clan.ru
ATTENDEE;CN="Karasinka";CUTYPE=INDIVIDUAL;PARTSTAT=ACCEPTED:
	web@bandits-clan.ru
ATTENDEE;CN="Kivnikcan";CUTYPE=INDIVIDUAL;PARTSTAT=ACCEPTED:
	web@bandits-clan.ru
ATTENDEE;CN="Helenar";CUTYPE=INDIVIDUAL;PARTSTAT=ACCEPTED:we
	b@bandits-clan.ru
ATTENDEE;CN="DarkLex";CUTYPE=INDIVIDUAL;PARTSTAT=ACCEPTED:we
	b@bandits-clan.ru
ATTENDEE;CN="DrDealer";CUTYPE=INDIVIDUAL;PARTSTAT=ACCEPTED:w
	eb@bandits-clan.ru
ATTENDEE;CN="Dushman";CUTYPE=INDIVIDUAL;PARTSTAT=ACCEPTED:we
	b@bandits-clan.ru
ATTENDEE;CN="PbICb35";CUTYPE=INDIVIDUAL;PARTSTAT=ACCEPTED:we
	b@bandits-clan.ru
ATTENDEE;CN="xMayoRx";CUTYPE=INDIVIDUAL;PARTSTAT=ACCEPTED:we
	b@bandits-clan.ru
ATTENDEE;CN="Ttog";CUTYPE=INDIVIDUAL;PARTSTAT=ACCEPTED:web@b
	andits-clan.ru
ATTENDEE;CN="BulyGold";CUTYPE=INDIVIDUAL;PARTSTAT=ACCEPTED:w
	eb@bandits-clan.ru
END:VEVENT
END:VCALENDAR
