BEGIN:VCALENDAR
VERSION:2.0
PRODID:-//InvisionCommunity Events 4.7.14//EN
METHOD:PUBLISH
CALSCALE:GREGORIAN
REFRESH-INTERVAL:PT15M
X-PUBLISHED-TTL:PT15M
X-WR-CALNAME:The Elder Scrolls Online
NAME:The Elder Scrolls Online
BEGIN:VTIMEZONE
TZID:Europe/London
TZURL:http://tzurl.org/zoneinfo/Europe/London
X-LIC-LOCATION:Europe/London
BEGIN:DAYLIGHT
TZOFFSETFROM:+0000
TZOFFSETTO:+0100
TZNAME:BST
DTSTART:20200329T020000Z
RRULE:FREQ=YEARLY;BYMONTH=3;BYDAY=-1SU
END:DAYLIGHT
BEGIN:STANDARD
TZOFFSETFROM:+0100
TZOFFSETTO:+0000
TZNAME:GMT
DTSTART:20201025T020000Z
RRULE:FREQ=YEARLY;BYMONTH=10;BYDAY=-1SU
END:STANDARD
END:VTIMEZONE
BEGIN:VEVENT
SUMMARY:[TESO] Мировые Боссы
DTSTAMP:20201110T115934Z
SEQUENCE:0
UID:8381-1-afb15bc42254ad5fb0481ce5e9c8144d@forum.bandits-clan.ru
ORGANIZER;CN="Timbra":web@bandits-clan.ru
DESCRIPTION:\n20:00 по Мск\n\nПри
	глашаю всех 
	желающих 0+ уро
	вень на увлека
	тельное путеше
	ствие по Мировым
	 боссам!  \nКуда
	 пойдем? Реш
	им голосование
	м в ТимСпик (Так
	же предлагайт
	е в комментария
	х под постом)!\n\
	nПрограмма со
	бытия:Ежеднев
	ные задания на 
	боссов\, а такж
	е убийство бос
	сов в любом р
	егионе Тамрие
	ля\, по-желани
	ю группы\nЗак
	роем Дольмен
	ы/Гейзеры/Бур
	и\nСоберем ск
	айшарды и кни
	жки\nСоберем
	 некоторые Д
	остижения\,
	 немного прока
	чаемся\, подза
	работаем золото и хоро
	шо повеселимся!\n\nГлавн
	ые требования:TeamSpea
	k. Канал Мировые
	 Боссы.\nТабард гил
	ьдии бандитов (можн
	о купить в магазине 
	гильдии за 2000 зол.)
	\nЛюбой уровень\,
	 любая экипировка\n\nПриоритет набора 
	в группу по записи  
DTSTART:20201115T170000Z
ATTENDEE;CN="Selena2105";CUTYPE=INDIVIDUAL;PARTSTAT=ACCEPTED
	:web@bandits-clan.ru
ATTENDEE;CN="Dormidontovna";CUTYPE=INDIVIDUAL;PARTSTAT=ACCEP
	TED:web@bandits-clan.ru
ATTENDEE;CN="Xranila";CUTYPE=INDIVIDUAL;PARTSTAT=ACCEPTED:we
	b@bandits-clan.ru
ATTENDEE;CN="Kivnikcan";CUTYPE=INDIVIDUAL;PARTSTAT=ACCEPTED:
	web@bandits-clan.ru
ATTENDEE;CN="PbICb35";CUTYPE=INDIVIDUAL;PARTSTAT=ACCEPTED:we
	b@bandits-clan.ru
END:VEVENT
END:VCALENDAR
