BEGIN:VCALENDAR
VERSION:2.0
PRODID:-//InvisionCommunity Events 4.7.14//EN
METHOD:PUBLISH
CALSCALE:GREGORIAN
REFRESH-INTERVAL:PT15M
X-PUBLISHED-TTL:PT15M
X-WR-CALNAME:The Elder Scrolls Online
NAME:The Elder Scrolls Online
BEGIN:VTIMEZONE
TZID:Europe/London
TZURL:http://tzurl.org/zoneinfo/Europe/London
X-LIC-LOCATION:Europe/London
BEGIN:DAYLIGHT
TZOFFSETFROM:+0000
TZOFFSETTO:+0100
TZNAME:BST
DTSTART:20200329T020000Z
RRULE:FREQ=YEARLY;BYMONTH=3;BYDAY=-1SU
END:DAYLIGHT
BEGIN:STANDARD
TZOFFSETFROM:+0100
TZOFFSETTO:+0000
TZNAME:GMT
DTSTART:20201025T020000Z
RRULE:FREQ=YEARLY;BYMONTH=10;BYDAY=-1SU
END:STANDARD
END:VTIMEZONE
BEGIN:VEVENT
SUMMARY:( TESO ) Рейд статика Madness
DTSTAMP:20201109T061421Z
SEQUENCE:0
UID:8371-1-afb15bc42254ad5fb0481ce5e9c8144d@forum.bandits-clan.ru
ORGANIZER;CN="AleshaMad":web@bandits-clan.ru
DESCRIPTION:\nВ 19.30 Мск\nhttp://forum.bandits...showtopic=729
	61 \nНеобходимо :\nТабард\nТимспи
	к ( Madness )\nСбор в Гильд Х
	олле ( за 15 ми
	нут до начала ) Обязате
	льно иметь основные ТРИАЛЬНЫЕ АДДОНЫ : Cod
	e Combat Alert\, Raid Notifier\, Bandit User Interface.\nРе
	шение о составе группы остается за рейд
	 лидером!!!
DTSTART:20201112T163000Z
END:VEVENT
END:VCALENDAR
