BEGIN:VCALENDAR
VERSION:2.0
PRODID:-//InvisionCommunity Events 4.7.14//EN
METHOD:PUBLISH
CALSCALE:GREGORIAN
REFRESH-INTERVAL:PT15M
X-PUBLISHED-TTL:PT15M
X-WR-CALNAME:The Elder Scrolls Online
NAME:The Elder Scrolls Online
BEGIN:VTIMEZONE
TZID:Europe/London
TZURL:http://tzurl.org/zoneinfo/Europe/London
X-LIC-LOCATION:Europe/London
BEGIN:DAYLIGHT
TZOFFSETFROM:+0000
TZOFFSETTO:+0100
TZNAME:BST
DTSTART:20200329T020000Z
RRULE:FREQ=YEARLY;BYMONTH=3;BYDAY=-1SU
END:DAYLIGHT
BEGIN:STANDARD
TZOFFSETFROM:+0100
TZOFFSETTO:+0000
TZNAME:GMT
DTSTART:20201025T020000Z
RRULE:FREQ=YEARLY;BYMONTH=10;BYDAY=-1SU
END:STANDARD
END:VTIMEZONE
BEGIN:VEVENT
SUMMARY:[TESO] Открытый рейд ХАРД МОД 
	Пасть Лоркхаджа
DTSTAMP:20201108T072740Z
SEQUENCE:0
UID:8361-1-afb15bc42254ad5fb0481ce5e9c8144d@forum.bandits-clan.ru
ORGANIZER;CN="MrGlaideR":web@bandits-clan.ru
DESCRIPTION: \nВ 15:00 по м
	осковскому времени При
	глашаю всех желающих в 
	звании Veteran Bandit+ п
	ройти усложненную 
	ветеранскую версию 
	испытания \"Пасть Ло
	ркхаджа\" (hmMoL) (треб
	уется дополнение Ги
	льдия Воров) Состав:2 танка\
	n2 хилера\n8 ДД\n\nТребования:Зван
	ие Veteran Bandit+\;\nНаличие отметк
	и об аттестации (для Д
	Д 40.000 и выше\, для танков 
	и хилов аттестация р
	анга veteran\, приорите
	т танков и хило
	в будет по ат
	тестации)\;\nНа
	личие отметки 
	о прохождении ветеранской 
	версии триала\;\nНаличие аддона C
	ode's Combat Alerts\;\nРаспреде
	ление ЧП согласно гайду\;\nН
	аличие гильдейского табарда Daggerfall/Van
	guard/Rising Bandits\;\nНаличие ми
	крофона\;\n\nДля учас
	тия нажимайте спр
	ава на кнопку \"По
	йду\"\, а в комментар
	ии внизу пишите св
	ою роль и игровой 
	ID.\nСбор в Тимспи
	ке (канал Испытан
	ия - Фармовое испытан
	ие) и гильдхолле за 10 мину
	т до начала события. \
	nHard Mode сложный\, б
	удет требо
	ваться неск
	олько итераций\, 
	событие будет 
	регулярным каждо
	е воскресенье в 1
	5:00 по московско
	му времени\, ка
	ждое событие 
	будет продол
	жатся от дву
	х до трёх ча
	сов.\nПриор
	итет отда
	ётся участ
	ником прошл
	ой итерации. Р
	ешение о сост
	аве группы о
	стается за р
	ейд лидером
	.\nВ случае
	 успешног
	о прохождения испытания вс
	ем участникам будут выставлены отметки.
DTSTART:20201115T120000Z
ATTENDEE;CN="MrGlaideR";CUTYPE=INDIVIDUAL;PARTSTAT=ACCEPTED:
	web@bandits-clan.ru
ATTENDEE;CN="Geluriel";CUTYPE=INDIVIDUAL;PARTSTAT=ACCEPTED:w
	eb@bandits-clan.ru
ATTENDEE;CN="KateSnow";CUTYPE=INDIVIDUAL;PARTSTAT=ACCEPTED:w
	eb@bandits-clan.ru
ATTENDEE;CN="Дэйф";CUTYPE=INDIVIDUAL;PARTSTAT=ACCEPTED:w
	eb@bandits-clan.ru
ATTENDEE;CN="#ifndef";CUTYPE=INDIVIDUAL;PARTSTAT=ACCEPTED:we
	b@bandits-clan.ru
ATTENDEE;CN="What i've done";CUTYPE=INDIVIDUAL;PARTSTAT=ACCE
	PTED:web@bandits-clan.ru
ATTENDEE;CN="bonart";CUTYPE=INDIVIDUAL;PARTSTAT=ACCEPTED:web
	@bandits-clan.ru
END:VEVENT
END:VCALENDAR
