BEGIN:VCALENDAR
VERSION:2.0
PRODID:-//InvisionCommunity Events 4.7.14//EN
METHOD:PUBLISH
CALSCALE:GREGORIAN
REFRESH-INTERVAL:PT15M
X-PUBLISHED-TTL:PT15M
X-WR-CALNAME:The Elder Scrolls Online
NAME:The Elder Scrolls Online
BEGIN:VTIMEZONE
TZID:Europe/London
TZURL:http://tzurl.org/zoneinfo/Europe/London
X-LIC-LOCATION:Europe/London
BEGIN:DAYLIGHT
TZOFFSETFROM:+0000
TZOFFSETTO:+0100
TZNAME:BST
DTSTART:20200329T020000Z
RRULE:FREQ=YEARLY;BYMONTH=3;BYDAY=-1SU
END:DAYLIGHT
BEGIN:STANDARD
TZOFFSETFROM:+0100
TZOFFSETTO:+0000
TZNAME:GMT
DTSTART:20201025T020000Z
RRULE:FREQ=YEARLY;BYMONTH=10;BYDAY=-1SU
END:STANDARD
END:VTIMEZONE
BEGIN:VEVENT
SUMMARY:[TESO] vDSA - Арена Драгонстара
DTSTAMP:20201106T164329Z
SEQUENCE:0
UID:8357-1-afb15bc42254ad5fb0481ce5e9c8144d@forum.bandits-clan.ru
ORGANIZER;CN="Timbra":web@bandits-clan.ru
DESCRIPTION:\nС 19:00 по МСК\n
	\nПриглашаю
	 всех желающих про
	йти ветеранское испытан
	ие Арена Драгонстара (vDSA
	).\nот 350 ЧП (если у вас
	 есть аттестация\, можн
	о сделать исключение)\n\nНужно:\n1 Тан
	к (Нормал+)\,\n1 Хил\n2 DD (dps 30k+)\
	n\nАрена Драгонстара
	 разбита на 10 этапов\,
	\nДлительность про
	хождения: 1 - 4 час
	а (во многом завис
	ит от опытности 
	команды и в боль
	шей части от танка)\n
	\nДля участия нажи
	майте справа на к
	нопку \"Пойду\"\, а в к
	омментариях вниз
	у пишите свою ро
	ль и игровой ID.\n\nОбязател
	ьно наличие гильдейской накидки Daggerfall
	/Vanguard/Rising Bandits\n\nСбор в Тим
	спике (канал Подземелья и Арена) за 1
	0 минут до начала события.
DTSTART:20201118T160000Z
ATTENDEE;CN="Timbra";CUTYPE=INDIVIDUAL;PARTSTAT=ACCEPTED:web
	@bandits-clan.ru
ATTENDEE;CN="ALPK";CUTYPE=INDIVIDUAL;PARTSTAT=ACCEPTED:web@b
	andits-clan.ru
ATTENDEE;CN="Warrior_Ruslan";CUTYPE=INDIVIDUAL;PARTSTAT=ACCE
	PTED:web@bandits-clan.ru
ATTENDEE;CN="Elerave";CUTYPE=INDIVIDUAL;PARTSTAT=ACCEPTED:we
	b@bandits-clan.ru
END:VEVENT
END:VCALENDAR
