BEGIN:VCALENDAR
VERSION:2.0
PRODID:-//InvisionCommunity Events 4.7.14//EN
METHOD:PUBLISH
CALSCALE:GREGORIAN
REFRESH-INTERVAL:PT15M
X-PUBLISHED-TTL:PT15M
X-WR-CALNAME:The Elder Scrolls Online
NAME:The Elder Scrolls Online
BEGIN:VTIMEZONE
TZID:Europe/London
TZURL:http://tzurl.org/zoneinfo/Europe/London
X-LIC-LOCATION:Europe/London
BEGIN:DAYLIGHT
TZOFFSETFROM:+0000
TZOFFSETTO:+0100
TZNAME:BST
DTSTART:20200329T020000Z
RRULE:FREQ=YEARLY;BYMONTH=3;BYDAY=-1SU
END:DAYLIGHT
BEGIN:STANDARD
TZOFFSETFROM:+0100
TZOFFSETTO:+0000
TZNAME:GMT
DTSTART:20201025T020000Z
RRULE:FREQ=YEARLY;BYMONTH=10;BYDAY=-1SU
END:STANDARD
END:VTIMEZONE
BEGIN:VEVENT
SUMMARY:[TESO]Учебный рейд vSS (Солнечный ш
	пиль)
DTSTAMP:20201106T130907Z
SEQUENCE:2
UID:8356-1-afb15bc42254ad5fb0481ce5e9c8144d@forum.bandits-clan.ru
ORGANIZER;CN="Murzzikk":web@bandits-clan.ru
DESCRIPTION:В 22.00 по МСК приг
	лашаю всех жела
	ющих от 300 ОГ п
	ройти ветер
	анскую версию 
	испытания \"Солнечный
	 шпиль\" Для прохожден
	ия необходимы: 1-2 хила\, 
	4-5 ДД. Для подтверждени
	я нажать \"Пойду\"\, 
	указать свой ID
	 и роль в комм
	ентариях.\n
	Приоритет
	 игрокам н
	е посещавши
	м данный триа
	л в ветеранс
	кой версии. Необх
	одима глава \"Эльсвей
	р\". Обязательно прис
	утствие в Teamspeak кан
	ал Учебное испыта
	ние (без звука и микрофон
	а - не беру).\nСбор в гильдхолле за
	 10-15 минут (в 21.45-21.50 
	МСК). Внимани
	е для успешно
	го прохождения тан
	ки идут опытные\, поэтому в тан
	ках нет необходимости.
DTSTART:20201107T190000Z
ATTENDEE;CN="MrMinys";CUTYPE=INDIVIDUAL;PARTSTAT=ACCEPTED:we
	b@bandits-clan.ru
ATTENDEE;CN="VladRevenant";CUTYPE=INDIVIDUAL;PARTSTAT=ACCEPT
	ED:web@bandits-clan.ru
ATTENDEE;CN="Karasinka";CUTYPE=INDIVIDUAL;PARTSTAT=ACCEPTED:
	web@bandits-clan.ru
ATTENDEE;CN="Китана";CUTYPE=INDIVIDUAL;PARTSTAT=ACCEPT
	ED:web@bandits-clan.ru
ATTENDEE;CN="Anhert";CUTYPE=INDIVIDUAL;PARTSTAT=ACCEPTED:web
	@bandits-clan.ru
ATTENDEE;CN="StarF0xy";CUTYPE=INDIVIDUAL;PARTSTAT=ACCEPTED:w
	eb@bandits-clan.ru
ATTENDEE;CN="skobets";CUTYPE=INDIVIDUAL;PARTSTAT=ACCEPTED:we
	b@bandits-clan.ru
ATTENDEE;CN="Дэйф";CUTYPE=INDIVIDUAL;PARTSTAT=ACCEPTED:w
	eb@bandits-clan.ru
END:VEVENT
END:VCALENDAR
