BEGIN:VCALENDAR
VERSION:2.0
PRODID:-//InvisionCommunity Events 4.7.14//EN
METHOD:PUBLISH
CALSCALE:GREGORIAN
REFRESH-INTERVAL:PT15M
X-PUBLISHED-TTL:PT15M
X-WR-CALNAME:The Elder Scrolls Online
NAME:The Elder Scrolls Online
BEGIN:VTIMEZONE
TZID:Europe/London
TZURL:http://tzurl.org/zoneinfo/Europe/London
X-LIC-LOCATION:Europe/London
BEGIN:DAYLIGHT
TZOFFSETFROM:+0000
TZOFFSETTO:+0100
TZNAME:BST
DTSTART:20200329T020000Z
RRULE:FREQ=YEARLY;BYMONTH=3;BYDAY=-1SU
END:DAYLIGHT
BEGIN:STANDARD
TZOFFSETFROM:+0100
TZOFFSETTO:+0000
TZNAME:GMT
DTSTART:20201025T020000Z
RRULE:FREQ=YEARLY;BYMONTH=10;BYDAY=-1SU
END:STANDARD
END:VTIMEZONE
BEGIN:VEVENT
SUMMARY:[TESO] Фармовое испытание вет Арен
	а Драгонстара
DTSTAMP:20201105T212527Z
SEQUENCE:1
UID:8355-1-afb15bc42254ad5fb0481ce5e9c8144d@forum.bandits-clan.ru
ORGANIZER;CN="KateSnow":web@bandits-clan.ru
DESCRIPTION:Приглашаю
	 всех желаю
	щих принять уча
	стие в фармовом р
	ейде в ветеранск
	ую Арену Драгонстара (v
	DSA). Арена расположена
	 в Краглорне (DLS не нуж
	но). Требуется 2 
	дд и хилер в з
	вании банди
	т +\, опыт п
	рохожден
	ия ветера
	нской арен
	ы драгонст
	ара приветст
	вуется. Для запи
	си в рейд укажи
	те в комментария
	х вашу роль и иг
	ровой ID и подтв
	ердите участи
	е\, нажав кноп
	ку «Пойду». 
	Будьте готовы\,
	 что прохождение
	 арены может заня
	ть длительное вре
	мя (до 3-х часов). Сбо
	р в Тимспике (канал
	 Подземелья и Аре
	ны) за 10 минут
	 до начала события.\nОб
	язательно наличие гильдейской накидки D
	aggerfall/Vanguard/Rising Bandits. Прос
	ьба перед р
	ейдом провери
	ть наличие камн
	ей воскрешения
	\, ремонтных набор
	ов\, еды и зелий. Также желатель
	но установить аддоны:Raid Notifier\nCode's Combat Alert
	\nHodor Reflex\n \nНа по
	следней а
	рене хилеру пон
	адобится использовать
	 таунт (скилл внутренняя ярость (in
	ner rage) из ветки неустрашимых).
DTSTART:20201107T120000Z
ATTENDEE;CN="KateSnow";CUTYPE=INDIVIDUAL;PARTSTAT=ACCEPTED:w
	eb@bandits-clan.ru
ATTENDEE;CN="F4N7";CUTYPE=INDIVIDUAL;PARTSTAT=ACCEPTED:web@b
	andits-clan.ru
ATTENDEE;CN="VladRevenant";CUTYPE=INDIVIDUAL;PARTSTAT=ACCEPT
	ED:web@bandits-clan.ru
ATTENDEE;CN="ALPK";CUTYPE=INDIVIDUAL;PARTSTAT=ACCEPTED:web@b
	andits-clan.ru
END:VEVENT
END:VCALENDAR
