BEGIN:VCALENDAR
VERSION:2.0
PRODID:-//InvisionCommunity Events 4.7.14//EN
METHOD:PUBLISH
CALSCALE:GREGORIAN
REFRESH-INTERVAL:PT15M
X-PUBLISHED-TTL:PT15M
X-WR-CALNAME:The Elder Scrolls Online
NAME:The Elder Scrolls Online
BEGIN:VTIMEZONE
TZID:Europe/London
TZURL:http://tzurl.org/zoneinfo/Europe/London
X-LIC-LOCATION:Europe/London
BEGIN:DAYLIGHT
TZOFFSETFROM:+0000
TZOFFSETTO:+0100
TZNAME:BST
DTSTART:20200329T020000Z
RRULE:FREQ=YEARLY;BYMONTH=3;BYDAY=-1SU
END:DAYLIGHT
BEGIN:STANDARD
TZOFFSETFROM:+0100
TZOFFSETTO:+0000
TZNAME:GMT
DTSTART:20201025T020000Z
RRULE:FREQ=YEARLY;BYMONTH=10;BYDAY=-1SU
END:STANDARD
END:VTIMEZONE
BEGIN:VEVENT
SUMMARY:[TESO] Фармовое испытание но
	рмал Клаудрест+0
DTSTAMP:20201105T211500Z
SEQUENCE:2
UID:8354-1-afb15bc42254ad5fb0481ce5e9c8144d@forum.bandits-clan.ru
ORGANIZER;CN="KateSnow":web@bandits-clan.ru
DESCRIPTION:Приглашаю всех
	 желающих от 160
	 ОГ в звании р
	ейдер+ пройти фармо
	вое испытание нормал К
	лаудрест +0. Начало в 20-00 по
	 МСК. Понадобится 1-2 танка
	\, 2 хилера\, 8-9 ДД. Сбор 
	в тимспике за 10 м
	ин до начала (
	канал \"Фармово
	е испытание\"). Обязательно
	 наличие гильдейской накидки Daggerfall/V
	anguard/Rising Bandits. В слу
	чае успешн
	ого прохо
	ждения воз
	можен второ
	й заход. Для уч
	астия указывай
	те в комментариях 
	свою роль и игров
	ой ID и нажимайте кнопку \"По
	йду\". Требуется дополнение Саммерсет.
DTSTART:20201106T170000Z
ATTENDEE;CN="KateSnow";CUTYPE=INDIVIDUAL;PARTSTAT=ACCEPTED:w
	eb@bandits-clan.ru
ATTENDEE;CN="kolenval";CUTYPE=INDIVIDUAL;PARTSTAT=ACCEPTED:w
	eb@bandits-clan.ru
ATTENDEE;CN="Fumko";CUTYPE=INDIVIDUAL;PARTSTAT=ACCEPTED:web@
	bandits-clan.ru
END:VEVENT
END:VCALENDAR
