BEGIN:VCALENDAR
VERSION:2.0
PRODID:-//InvisionCommunity Events 4.7.14//EN
METHOD:PUBLISH
CALSCALE:GREGORIAN
REFRESH-INTERVAL:PT15M
X-PUBLISHED-TTL:PT15M
X-WR-CALNAME:The Elder Scrolls Online
NAME:The Elder Scrolls Online
BEGIN:VTIMEZONE
TZID:Europe/London
TZURL:http://tzurl.org/zoneinfo/Europe/London
X-LIC-LOCATION:Europe/London
BEGIN:DAYLIGHT
TZOFFSETFROM:+0000
TZOFFSETTO:+0100
TZNAME:BST
DTSTART:20200329T020000Z
RRULE:FREQ=YEARLY;BYMONTH=3;BYDAY=-1SU
END:DAYLIGHT
BEGIN:STANDARD
TZOFFSETFROM:+0100
TZOFFSETTO:+0000
TZNAME:GMT
DTSTART:20201025T020000Z
RRULE:FREQ=YEARLY;BYMONTH=10;BYDAY=-1SU
END:STANDARD
END:VTIMEZONE
BEGIN:VEVENT
SUMMARY:(ТЕСО) Открытый рейд в вет С
	олнечный шпиль
DTSTAMP:20201105T202753Z
SEQUENCE:2
UID:8353-1-afb15bc42254ad5fb0481ce5e9c8144d@forum.bandits-clan.ru
ORGANIZER;CN="Miloscpolski":web@bandits-clan.ru
DESCRIPTION: УЧЕБН
	ОЕ ФАРМОВОЕ
	 ИСПЫТАНИЕ СОЛНЕЧН
	ОГО ШПИЛЯ ВЕТЕРАНС
	КОГО УРОВНЯ СЛОЖНОС
	ТИ\;\nВремя: 20:00 МСК В рей
	д требуются следующие роли:\
	nМейн танк: @Bandit_Asar (дк) йолна гален
	ве\nОфф танк: @Miloscpolski (некромант)
	 ворм культ ебон 1 хил: @Dave2112 (
	спк/олорим+холофанг)\n2 хил: @Dg
	alz (Йорвульд+оппортунист) 1 дд: @F
	orestDragonBro (Мана дк\, наличие зена пр
	иветствуется)\n2 дд: @Lord_mamon (
	Мана/стам некромант)\n3 дд: @? (Ма
	на/стам некромант)\n3 дд: @Asilees\n4 дд: @Kentaches\
	n5 дд: @Longfellow\n6 дд: @Daimir369\n7 дд: @ru-Grom\n8 дд: @J
	aneEyrre Требование: Налич
	ие ТС(тим спик)\, таб
	арды. \nХилы: аттест
	ация - нормал\, также н
	аличие необходимых 
	сетов.\nДд: Дпс от 30
	к на 3 млн скелет
	е. Запись под событием\, также подтв
	ердить своё участие.
DTSTART:20201106T170000Z
ATTENDEE;CN="Miloscpolski";CUTYPE=INDIVIDUAL;PARTSTAT=ACCEPT
	ED:web@bandits-clan.ru
ATTENDEE;CN="Dgalz";CUTYPE=INDIVIDUAL;PARTSTAT=ACCEPTED:web@
	bandits-clan.ru
ATTENDEE;CN="Дэйф";CUTYPE=INDIVIDUAL;PARTSTAT=ACCEPTED:w
	eb@bandits-clan.ru
ATTENDEE;CN="Daimik";CUTYPE=INDIVIDUAL;PARTSTAT=ACCEPTED:web
	@bandits-clan.ru
ATTENDEE;CN="ruGrom";CUTYPE=INDIVIDUAL;PARTSTAT=ACCEPTED:web
	@bandits-clan.ru
ATTENDEE;CN="JaneEyre";CUTYPE=INDIVIDUAL;PARTSTAT=ACCEPTED:w
	eb@bandits-clan.ru
ATTENDEE;CN="ForestDragonBro";CUTYPE=INDIVIDUAL;PARTSTAT=ACC
	EPTED:web@bandits-clan.ru
ATTENDEE;CN="BanditAsar";CUTYPE=INDIVIDUAL;PARTSTAT=ACCEPTED
	:web@bandits-clan.ru
ATTENDEE;CN="LordMamon";CUTYPE=INDIVIDUAL;PARTSTAT=ACCEPTED:
	web@bandits-clan.ru
END:VEVENT
END:VCALENDAR
