BEGIN:VCALENDAR
VERSION:2.0
PRODID:-//InvisionCommunity Events 4.7.14//EN
METHOD:PUBLISH
CALSCALE:GREGORIAN
REFRESH-INTERVAL:PT15M
X-PUBLISHED-TTL:PT15M
X-WR-CALNAME:The Elder Scrolls Online
NAME:The Elder Scrolls Online
BEGIN:VTIMEZONE
TZID:Europe/London
TZURL:http://tzurl.org/zoneinfo/Europe/London
X-LIC-LOCATION:Europe/London
BEGIN:DAYLIGHT
TZOFFSETFROM:+0000
TZOFFSETTO:+0100
TZNAME:BST
DTSTART:20200329T020000Z
RRULE:FREQ=YEARLY;BYMONTH=3;BYDAY=-1SU
END:DAYLIGHT
BEGIN:STANDARD
TZOFFSETFROM:+0100
TZOFFSETTO:+0000
TZNAME:GMT
DTSTART:20201025T020000Z
RRULE:FREQ=YEARLY;BYMONTH=10;BYDAY=-1SU
END:STANDARD
END:VTIMEZONE
BEGIN:VEVENT
SUMMARY:{TESO} Рейд статика \"Draconic Honor\"
DTSTAMP:20201103T171547Z
SEQUENCE:0
UID:8342-1-afb15bc42254ad5fb0481ce5e9c8144d@forum.bandits-clan.ru
ORGANIZER;CN="Miloscpolski":web@bandits-clan.ru
DESCRIPTION:\nСтатику \"Draconic Honor\" 
	требуются хил(1) н
	а данное событие
	\, запись по событием. 
	Требования\, хил - аттес
	тация нормал\, дд - дп
	с 30к+ на 3 млн кукле
	. Также мы осущес
	твляем набор в ста
	тик\, требуются в основной со
	ста хил(1). Связь со мной через id
	@Miloscpolski\, а также на 
	форуме.\nПроводи
	тся открытый рейд с
	татиком в вет Санкт
	ум Офидия (хм)\, после вСС.\n\n
	Основной состав статика:\n1-танк:@Miloscpolsk
	i\n2-танк:@Bandit_Asar (Aleksey)\n\n1-хил: @SvetJlaya\n2-хил:
	 @ 1-дд: @Stephook\n2-дд: @Semeckiy\n3-дд: @Kandibobier\n4-дд: @L
	ord of the Universe\n5-дд: @IAMREADYTODIE\n6-дд: @Wentef\n7-дд: @Ken
	taches\n8-дд: @Asilees
DTSTART:20201105T180000Z
END:VEVENT
END:VCALENDAR
