BEGIN:VCALENDAR
VERSION:2.0
PRODID:-//InvisionCommunity Events 4.7.14//EN
METHOD:PUBLISH
CALSCALE:GREGORIAN
REFRESH-INTERVAL:PT15M
X-PUBLISHED-TTL:PT15M
X-WR-CALNAME:The Elder Scrolls Online
NAME:The Elder Scrolls Online
BEGIN:VTIMEZONE
TZID:Europe/London
TZURL:http://tzurl.org/zoneinfo/Europe/London
X-LIC-LOCATION:Europe/London
BEGIN:DAYLIGHT
TZOFFSETFROM:+0000
TZOFFSETTO:+0100
TZNAME:BST
DTSTART:20200329T020000Z
RRULE:FREQ=YEARLY;BYMONTH=3;BYDAY=-1SU
END:DAYLIGHT
BEGIN:STANDARD
TZOFFSETFROM:+0100
TZOFFSETTO:+0000
TZNAME:GMT
DTSTART:20201025T020000Z
RRULE:FREQ=YEARLY;BYMONTH=10;BYDAY=-1SU
END:STANDARD
END:VTIMEZONE
BEGIN:VEVENT
SUMMARY:[TESO] Путь Жертвоприношений (veteran) D
	LC
DTSTAMP:20201103T062328Z
SEQUENCE:2
UID:8340-1-afb15bc42254ad5fb0481ce5e9c8144d@forum.bandits-clan.ru
ORGANIZER;CN="Timbra":web@bandits-clan.ru
DESCRIPTION: В 22:00 МСК Приг
	лашаю всех желающих п
	ройти \nDLC подземелье Путь Жертвоп
	риношений (March of Sacrifices
	) \nв ветера
	нском реж
	име! • С
	делаем ач
	ивки для п
	олучения 
	персоналии:
	Завоеватель
	 Пути Жертвопр
	иношений - Од
	олеть сестёр-в
	ещуний\, Агед С
	олнцеворотну
	ю\, Дагренда Г
	рузного\, Та
	рсира и Ба
	лорга в вет
	еранском ре
	жиме Пути Ж
	ертвоприношени
	й\nНастоящий ин
	стинкт - Одолеть
	 все группы враг
	ов\, а также сест
	ёр-вещуний\, Аг
	ед Солнцеворотну
	ю\, Дагренда Грузн
	ого\, Тарсира и Ба
	лорга в течение 
	30 минут. Отсчет
	 начинается\,
	 когда игроки
	 попадают в ущ
	елье Запаха Кро
	ви\nВыживание д
	остойных - Одоле
	ть все группы вр
	агов\, а также се
	стер-вещуний\,
	 Агед Солнцево
	ротную\, Дагрен
	да Грузного\, 
	Тарсира и Бало
	рга без смерте
	й членов груп
	пы.\nИзбранни
	к Хирсина -
	 Одолеть Б
	алорга пос
	ле оскверн
	ения знаме
	ни стаи Лунног
	о Охотника и п
	робуждения в 
	нём убийствен
	ной ярости.\n\n
	• Также вып
	олним другие ачивк
	и по желанию группы. 
	\n• Событие продлится
	 до 23:00 МСК\, если 
	не успеем зав
	ершить все а
	чивки\, собе
	ремся в следую
	щий доступный для в
	сех день. • Требования д
	ля участия:От 350 ЧП\nДД: дп
	с 40к+\nХил и танк: В
	етеран+ (либо 
	ниже\, если ес
	ть опыт прохожд
	ения этого подземелья в ве
	теранском режиме)\nКупленный
	 DLC Wolfhunter / Охотник на волков (входит в 
	Eso Plus)\nTeamSpeak и наличие 
	наушников с
	 гарнитурой
	/микрофоном.
	\n\n• Для по
	дтвержден
	ия участия 
	необходимо 
	отметиться в ка
	лендаре:Нажать к
	нопку Пойду\nУказ
	ать свою роль и I
	D в комментария
	х\nЕсли по как
	им-то причинам
	 не получится 
	прийти\, отписа
	ться в комментар
	иях\, изменив с
	вое сообщение\n\n• При недоборе же
	лающих\, событие переносится.
DTSTART:20201121T190000Z
ATTENDEE;CN="Timbra";CUTYPE=INDIVIDUAL;PARTSTAT=ACCEPTED:web
	@bandits-clan.ru
ATTENDEE;CN="Ил Арион";CUTYPE=INDIVIDUAL;PARTSTAT=ACC
	EPTED:web@bandits-clan.ru
END:VEVENT
END:VCALENDAR
