BEGIN:VCALENDAR
VERSION:2.0
PRODID:-//InvisionCommunity Events 4.7.14//EN
METHOD:PUBLISH
CALSCALE:GREGORIAN
REFRESH-INTERVAL:PT15M
X-PUBLISHED-TTL:PT15M
X-WR-CALNAME:The Elder Scrolls Online
NAME:The Elder Scrolls Online
BEGIN:VTIMEZONE
TZID:Europe/London
TZURL:http://tzurl.org/zoneinfo/Europe/London
X-LIC-LOCATION:Europe/London
BEGIN:DAYLIGHT
TZOFFSETFROM:+0000
TZOFFSETTO:+0100
TZNAME:BST
DTSTART:20200329T020000Z
RRULE:FREQ=YEARLY;BYMONTH=3;BYDAY=-1SU
END:DAYLIGHT
BEGIN:STANDARD
TZOFFSETFROM:+0100
TZOFFSETTO:+0000
TZNAME:GMT
DTSTART:20201025T020000Z
RRULE:FREQ=YEARLY;BYMONTH=10;BYDAY=-1SU
END:STANDARD
END:VTIMEZONE
BEGIN:VEVENT
SUMMARY:[TESO] Мировые Боссы Предела (DLC Markart
	h)
DTSTAMP:20201103T023637Z
SEQUENCE:2
UID:8339-1-afb15bc42254ad5fb0481ce5e9c8144d@forum.bandits-clan.ru
ORGANIZER;CN="Timbra":web@bandits-clan.ru
DESCRIPTION:21:00 по Мск Пр
	иглашаю всех
	 желающих 0+
	 уровень на ув
	лекательное пу
	тешествие по М
	ировым боссам Пр
	едела!  \nКуда 
	пойдем еще?
	 Решим голо
	сованием в 
	ТимСпик (Та
	кже предла
	гайте в ком
	ментариях п
	од постом)! Пр
	ограмма событи
	я:Ежедневные з
	адания на боссов
	 в Пределе\, а та
	кже в любом р
	егионе Тамрие
	ля\, по-желани
	ю группы\nЗак
	роем Дольме
	ны/Гейзеры/Бу
	ри\nСоберем 
	некоторые Д
	остижения\,
	 немного прока
	чаемся\, подза
	работаем золото и хоро
	шо повеселимся!\n\nГлавн
	ые требования:TeamSpeak. Кана
	л Мировые Боссы.\nКупленный DLC М
	аркарт / Markarth (либо подпис
	ка ESO plus)\nТабард г
	ильдии бандитов (мо
	жно купить в магазин
	е гильдии за 2000 зол.
	)\nЛюбой уровень\
	, любая экипировка\n\nПриоритет набора 
	в группу по записи 
DTSTART:20201108T180000Z
ATTENDEE;CN="Ил Арион";CUTYPE=INDIVIDUAL;PARTSTAT=ACC
	EPTED:web@bandits-clan.ru
ATTENDEE;CN="xMayoRx";CUTYPE=INDIVIDUAL;PARTSTAT=ACCEPTED:we
	b@bandits-clan.ru
ATTENDEE;CN="Бурый95";CUTYPE=INDIVIDUAL;PARTSTAT=ACCEPT
	ED:web@bandits-clan.ru
ATTENDEE;CN="Kapitul";CUTYPE=INDIVIDUAL;PARTSTAT=ACCEPTED:we
	b@bandits-clan.ru
END:VEVENT
END:VCALENDAR
