BEGIN:VCALENDAR
VERSION:2.0
PRODID:-//InvisionCommunity Events 4.7.14//EN
METHOD:PUBLISH
CALSCALE:GREGORIAN
REFRESH-INTERVAL:PT15M
X-PUBLISHED-TTL:PT15M
X-WR-CALNAME:The Elder Scrolls Online
NAME:The Elder Scrolls Online
BEGIN:VTIMEZONE
TZID:Europe/London
TZURL:http://tzurl.org/zoneinfo/Europe/London
X-LIC-LOCATION:Europe/London
BEGIN:DAYLIGHT
TZOFFSETFROM:+0000
TZOFFSETTO:+0100
TZNAME:BST
DTSTART:20200329T020000Z
RRULE:FREQ=YEARLY;BYMONTH=3;BYDAY=-1SU
END:DAYLIGHT
BEGIN:STANDARD
TZOFFSETFROM:+0100
TZOFFSETTO:+0000
TZNAME:GMT
DTSTART:20201025T020000Z
RRULE:FREQ=YEARLY;BYMONTH=10;BYDAY=-1SU
END:STANDARD
END:VTIMEZONE
BEGIN:VEVENT
SUMMARY:(TESO) вет Пасть Лоркхаджа
DTSTAMP:20201101T084701Z
SEQUENCE:2
UID:8297-1-afb15bc42254ad5fb0481ce5e9c8144d@forum.bandits-clan.ru
ORGANIZER;CN="Bandit":web@bandits-clan.ru
DESCRIPTION:С 17 00 по Мск
	 Приглашаю же
	лающих в зван
	ии от Ветеран
	 Бандит+ (пр
	и недобор
	е беру от
	 Бандит)
	 научитьс
	я проходит
	ь ветеранское и
	спытание дополн
	ения Гильдия воров
	 - Пасть Лоркхаджа
	. 100% дойдем д
	о близнецо
	в\, будем 
	учить та
	ктику. Пр
	едустанов
	ленные аддо
	ны-оповещалки 
	обязательно. Воз
	можно\, нам понад
	обится еще два-т
	ри рейда \, но 
	в итоге миссия 
	будет пройдена и к
	расивый скин получен в
	семи. Нужно: 12 человек\, 
	2 танка\, 2 хилера\, ост
	альные - дд. Тимсп
	ик\, табарды\, сбор в г
	ихолле 1) учим разбег
	 на близнецах\n \n!!!
	ВНИМАНИЕ!!! В
	 связи с те
	хработами на сер
	вере рейд перенос
	ится на следующий пон
	едельник!!!!\n \nКто НЕ сможет прийти - отп
	ишитесь :(
DTSTART:20201109T140000Z
ATTENDEE;CN="Bandit";CUTYPE=INDIVIDUAL;PARTSTAT=ACCEPTED:web
	@bandits-clan.ru
ATTENDEE;CN="Elerave";CUTYPE=INDIVIDUAL;PARTSTAT=ACCEPTED:we
	b@bandits-clan.ru
ATTENDEE;CN="Agitator";CUTYPE=INDIVIDUAL;PARTSTAT=ACCEPTED:w
	eb@bandits-clan.ru
ATTENDEE;CN="ForestDragonBro";CUTYPE=INDIVIDUAL;PARTSTAT=ACC
	EPTED:web@bandits-clan.ru
ATTENDEE;CN="JaneEyre";CUTYPE=INDIVIDUAL;PARTSTAT=ACCEPTED:w
	eb@bandits-clan.ru
ATTENDEE;CN="PISTER";CUTYPE=INDIVIDUAL;PARTSTAT=ACCEPTED:web
	@bandits-clan.ru
ATTENDEE;CN="KateSnow";CUTYPE=INDIVIDUAL;PARTSTAT=ACCEPTED:w
	eb@bandits-clan.ru
ATTENDEE;CN="ALPK";CUTYPE=INDIVIDUAL;PARTSTAT=ACCEPTED:web@b
	andits-clan.ru
ATTENDEE;CN="Warrior_Ruslan";CUTYPE=INDIVIDUAL;PARTSTAT=ACCE
	PTED:web@bandits-clan.ru
END:VEVENT
END:VCALENDAR
