BEGIN:VCALENDAR
VERSION:2.0
PRODID:-//InvisionCommunity Events 4.7.14//EN
METHOD:PUBLISH
CALSCALE:GREGORIAN
REFRESH-INTERVAL:PT15M
X-PUBLISHED-TTL:PT15M
X-WR-CALNAME:The Elder Scrolls Online
NAME:The Elder Scrolls Online
BEGIN:VTIMEZONE
TZID:Europe/London
TZURL:http://tzurl.org/zoneinfo/Europe/London
X-LIC-LOCATION:Europe/London
BEGIN:DAYLIGHT
TZOFFSETFROM:+0000
TZOFFSETTO:+0100
TZNAME:BST
DTSTART:20200329T020000Z
RRULE:FREQ=YEARLY;BYMONTH=3;BYDAY=-1SU
END:DAYLIGHT
BEGIN:STANDARD
TZOFFSETFROM:+0100
TZOFFSETTO:+0000
TZNAME:GMT
DTSTART:20201025T020000Z
RRULE:FREQ=YEARLY;BYMONTH=10;BYDAY=-1SU
END:STANDARD
END:VTIMEZONE
BEGIN:VEVENT
SUMMARY:(TESO) Драконы Эльсвейра (Elsweyr)
DTSTAMP:20201031T161816Z
SEQUENCE:2
UID:8278-1-afb15bc42254ad5fb0481ce5e9c8144d@forum.bandits-clan.ru
ORGANIZER;CN="Кира":web@bandits-clan.ru
DESCRIPTION:20 30 по Мск Пр
	иглашаю всех 
	желающих 0+ у
	ровень на увл
	екательную э
	кскурсию по Эл
	ьсвейру.\nПоох
	отимся на драк
	онов\, выполни
	м ачивки\, 
	соберем н
	ебесные ос
	колки\, вып
	олним ежедне
	вные задания Требуется:
	 купленная глава Эльсвей
	ра\, желание\, TeamSpeak\,
	 гильдейская на
	кидка (табард).
	 Уровень и шм
	от не важны. 
	Вместе - в
	еселее!Пр
	огуляемся
	 по теплым
	 пескам! С
	обытия гл
	авы развор
	ачиваются н
	а родине ка
	джитов — Эл
	ьсвейре. Нач
	инаются они 
	после того ка
	к обманутый с
	воей сестрой\
	, самозваной 
	королевой Е
	враксией\, А
	бнур Тарн 
	вместе со
	 своей по
	мощницей 
	случайно 
	выпускают 
	из заточен
	ия великог
	о дракона К
	альгронтида 
	и его сороди
	чей. Теперь
	 драконы в
	ернулись 
	в Тамриэль
	 и ваша цель
	 — предотвра
	тить разруше
	ние родины ка
	джитов. Мужа
	йтесь\, потому 
	что эти огро
	мные чудовища
	 не являются н
	епобедимыми\,
	 и при правил
	ьном планиров
	ании\, тактике
	 и экипировки
	 они могут б
	ыть побежд
	ены и даже 
	уничтожены
	. Координация
	 и мастерство 
	являются ключев
	ыми для победы н
	ад драконами\, но
	 если вам это удас
	тся\, вы получите 
	награды\, которых нет н
	игде в Нирне. «Осторожн
	о\, в небесах!» \np.s.\n
	В СВЯЗИ С ИВЕНТОМ\, СО
	БЫТИЕ ОТЛОЖЕНО (ПЕРЕНЕСЕНО) НА БУДУ
	ЩИЕ ЧЕТВЕРГИ.
DTSTART:20201224T173000Z
END:VEVENT
END:VCALENDAR
