BEGIN:VCALENDAR
VERSION:2.0
PRODID:-//InvisionCommunity Events 4.7.14//EN
METHOD:PUBLISH
CALSCALE:GREGORIAN
REFRESH-INTERVAL:PT15M
X-PUBLISHED-TTL:PT15M
X-WR-CALNAME:The Elder Scrolls Online
NAME:The Elder Scrolls Online
BEGIN:VTIMEZONE
TZID:Europe/London
TZURL:http://tzurl.org/zoneinfo/Europe/London
X-LIC-LOCATION:Europe/London
BEGIN:DAYLIGHT
TZOFFSETFROM:+0000
TZOFFSETTO:+0100
TZNAME:BST
DTSTART:20200329T020000Z
RRULE:FREQ=YEARLY;BYMONTH=3;BYDAY=-1SU
END:DAYLIGHT
BEGIN:STANDARD
TZOFFSETFROM:+0100
TZOFFSETTO:+0000
TZNAME:GMT
DTSTART:20201025T020000Z
RRULE:FREQ=YEARLY;BYMONTH=10;BYDAY=-1SU
END:STANDARD
END:VTIMEZONE
BEGIN:VEVENT
SUMMARY:(TESO) Драконы Эльсвейра (Elsweyr)
DTSTAMP:20201031T161729Z
SEQUENCE:0
UID:8276-1-afb15bc42254ad5fb0481ce5e9c8144d@forum.bandits-clan.ru
ORGANIZER;CN="Кира":web@bandits-clan.ru
DESCRIPTION:\n20 30 по Мск\n\nПри
	глашаю всех же
	лающих 0+ уров
	ень на увлека
	тельную экску
	рсию по Эльсвей
	ру.\nПоохотимся 
	на драконов\, 
	выполним ачив
	ки\, соберем неб
	есные осколки\
	, выполним ежед
	невные задания\n\nТреб
	уется: купленная глава 
	Эльсвейра\, желание\, Tea
	mSpeak\, гильдейская нак
	идка (табард). Уро
	вень и шмот не важны
	.\n\nВместе - весел
	ее!Прогуляемс
	я по теплым пе
	скам!\n\nСобы
	тия главы 
	разворачив
	аются на ро
	дине каджит
	ов — Эльсвейр
	е. Начинаются
	 они после т
	ого как обман
	утый своей се
	строй\, самоз
	ваной корол
	евой Евракси
	ей\, Абнур Т
	арн вместе
	 со своей 
	помощниц
	ей случайн
	о выпускают
	 из заточен
	ия великог
	о дракона К
	альгронтида 
	и его сороди
	чей. Теперь
	 драконы в
	ернулись 
	в Тамриэль
	 и ваша цель
	 — предотвра
	тить разруше
	ние родины ка
	джитов. Мужа
	йтесь\, потому 
	что эти огро
	мные чудовища
	 не являются н
	епобедимыми\,
	 и при правил
	ьном планиров
	ании\, тактике
	 и экипировки
	 они могут б
	ыть побежд
	ены и даже 
	уничтожены
	. Координация
	 и мастерство 
	являются ключев
	ыми для победы н
	ад драконами\, но
	 если вам это удас
	тся\, вы получите 
	награды\, которых нет нигде в Нирне. «Ос
	торожно\, в небесах!»
DTSTART:20201210T173000Z
ATTENDEE;CN="SpawnOfAzar";CUTYPE=INDIVIDUAL;PARTSTAT=ACCEPTE
	D:web@bandits-clan.ru
ATTENDEE;CN="Sartaks209";CUTYPE=INDIVIDUAL;PARTSTAT=ACCEPTED
	:web@bandits-clan.ru
END:VEVENT
END:VCALENDAR
