BEGIN:VCALENDAR
VERSION:2.0
PRODID:-//InvisionCommunity Events 4.7.14//EN
METHOD:PUBLISH
CALSCALE:GREGORIAN
REFRESH-INTERVAL:PT15M
X-PUBLISHED-TTL:PT15M
X-WR-CALNAME:The Elder Scrolls Online
NAME:The Elder Scrolls Online
BEGIN:VTIMEZONE
TZID:Europe/London
TZURL:http://tzurl.org/zoneinfo/Europe/London
X-LIC-LOCATION:Europe/London
BEGIN:DAYLIGHT
TZOFFSETFROM:+0000
TZOFFSETTO:+0100
TZNAME:BST
DTSTART:20200329T020000Z
RRULE:FREQ=YEARLY;BYMONTH=3;BYDAY=-1SU
END:DAYLIGHT
BEGIN:STANDARD
TZOFFSETFROM:+0100
TZOFFSETTO:+0000
TZNAME:GMT
DTSTART:20201025T020000Z
RRULE:FREQ=YEARLY;BYMONTH=10;BYDAY=-1SU
END:STANDARD
END:VTIMEZONE
BEGIN:VEVENT
SUMMARY:{TESO} Рейд статика \"Draconic Honor\"
DTSTAMP:20201029T121413Z
SEQUENCE:2
UID:8252-1-afb15bc42254ad5fb0481ce5e9c8144d@forum.bandits-clan.ru
ORGANIZER;CN="Miloscpolski":web@bandits-clan.ru
DESCRIPTION:Статику \"Draconic Honor\" треб
	уются дд(4) и хил(1) н
	а данное событие
	\, запись по событием. 
	Требования\, хил - аттес
	тация нормал\, дд - дп
	с 30к+ на 3 млн кукл
	е. Также мы осуществляем н
	абор в статик. Связь со мной ч
	ерез id@Miloscpolski\, а также н
	а форуме. Открытый рейд в ветSO\, после в
	етСС.
DTSTART:20201029T180000Z
ATTENDEE;CN="Miloscpolski";CUTYPE=INDIVIDUAL;PARTSTAT=ACCEPT
	ED:web@bandits-clan.ru
END:VEVENT
END:VCALENDAR
