BEGIN:VCALENDAR
VERSION:2.0
PRODID:-//InvisionCommunity Events 4.7.14//EN
METHOD:PUBLISH
CALSCALE:GREGORIAN
REFRESH-INTERVAL:PT15M
X-PUBLISHED-TTL:PT15M
X-WR-CALNAME:The Elder Scrolls Online
NAME:The Elder Scrolls Online
BEGIN:VTIMEZONE
TZID:Europe/London
TZURL:http://tzurl.org/zoneinfo/Europe/London
X-LIC-LOCATION:Europe/London
BEGIN:DAYLIGHT
TZOFFSETFROM:+0000
TZOFFSETTO:+0100
TZNAME:BST
DTSTART:20200329T020000Z
RRULE:FREQ=YEARLY;BYMONTH=3;BYDAY=-1SU
END:DAYLIGHT
BEGIN:STANDARD
TZOFFSETFROM:+0100
TZOFFSETTO:+0000
TZNAME:GMT
DTSTART:20201025T020000Z
RRULE:FREQ=YEARLY;BYMONTH=10;BYDAY=-1SU
END:STANDARD
END:VTIMEZONE
BEGIN:VEVENT
SUMMARY:(ТЕСО) Открытый учебный рейд в 
	вет Архив и вет ХРЦ
DTSTAMP:20201029T120424Z
SEQUENCE:2
UID:8251-1-afb15bc42254ad5fb0481ce5e9c8144d@forum.bandits-clan.ru
ORGANIZER;CN="Miloscpolski":web@bandits-clan.ru
DESCRIPTION:В обучающи
	й открытый рейд в вАА и вХ
	РЦ требуются следующие роли:\nТа
	нк-@Miloscpolski Целитель-@Dave2112\nЦелитель-@inz
	enieris ДД-@Altesair\nДД-@Bandit_Asar\nДД-@ernesto1z\nДД-@altes
	air\nДД-@Daimir369\nДД-@Kentaches\nДД-@sergei.provkin\nДД-@armar
	es\nДД-@Asilees Требова
	ния к ролям: Це
	лители - сданная
	 аттестация на н
	ормал (если аттес
	тация не сдана\, н
	о вы уверены в с
	воих силах и в буд
	ущем готовы сдавать\, т
	о всё равно записывайте
	сь)\, дд - ДПС 25к+ на 3 млн к
	укле.\nСбор происходит в ги
	льдхолле в 19:40 по МСК\, на
	чало рейда в 20:00 по
	 МСК\, при себе иметь табарды\, а такж
	е установленный тимспик.
DTSTART:20201030T170000Z
ATTENDEE;CN="Miloscpolski";CUTYPE=INDIVIDUAL;PARTSTAT=ACCEPT
	ED:web@bandits-clan.ru
ATTENDEE;CN="Altesair";CUTYPE=INDIVIDUAL;PARTSTAT=ACCEPTED:w
	eb@bandits-clan.ru
ATTENDEE;CN="BanditAsar";CUTYPE=INDIVIDUAL;PARTSTAT=ACCEPTED
	:web@bandits-clan.ru
ATTENDEE;CN="F4N7";CUTYPE=INDIVIDUAL;PARTSTAT=ACCEPTED:web@b
	andits-clan.ru
ATTENDEE;CN="эрнесто";CUTYPE=INDIVIDUAL;PARTSTAT=ACCE
	PTED:web@bandits-clan.ru
ATTENDEE;CN="inzenieris";CUTYPE=INDIVIDUAL;PARTSTAT=ACCEPTED
	:web@bandits-clan.ru
END:VEVENT
END:VCALENDAR
